SMAP 1.10.1 Robin Andersson
 | Snapshot Date: 2009-12-13 23:30:35 -0800 (Sun, 13 Dec 2009) |  | URL: https://hedgehog.fhcrc.org/bioconductor/branches/RELEASE_2_5/madman/Rpacks/SMAP |  | Last Changed Rev: 42737 / Revision: 43539 |  | Last Changed Date: 2009-10-29 14:46:41 -0700 (Thu, 29 Oct 2009) |  
  | wilson2  | Linux (openSUSE 11.1) / x86_64  |  OK  |  OK  |  | 
| liverpool  | Windows Server 2003 R2 (32-bit) / x64  |  OK  |  OK  |  OK  | 
| pitt  | Mac OS X Tiger (10.4.11) / i386  |  OK  |  OK  |  OK  | 
| pelham  | Mac OS X Leopard (10.5.8) / i386  |  OK  |  OK  | [ OK ] | 
                INSTALLATION WITH 'R CMD INSTALL --preclean --library=SMAP.buildbin-libdir SMAP_1.10.1.tar.gz'
* installing *source* package ‘SMAP’ ...
** libs
** arch - i386
gcc-4.2 -arch i386 -std=gnu99 -I/Library/Frameworks/R.framework/Resources/include -I/Library/Frameworks/R.framework/Resources/include/i386  -I/usr/local/include    -fPIC  -g -O2 -Wall -c gradient.c -o gradient.o
gradient.c: In function ‘hmm_update’:
gradient.c:247: warning: unused variable ‘tmp’
gcc-4.2 -arch i386 -std=gnu99 -I/Library/Frameworks/R.framework/Resources/include -I/Library/Frameworks/R.framework/Resources/include/i386  -I/usr/local/include    -fPIC  -g -O2 -Wall -c init.c -o init.o
gcc-4.2 -arch i386 -std=gnu99 -I/Library/Frameworks/R.framework/Resources/include -I/Library/Frameworks/R.framework/Resources/include/i386  -I/usr/local/include    -fPIC  -g -O2 -Wall -c overlap.c -o overlap.o
gcc-4.2 -arch i386 -std=gnu99 -I/Library/Frameworks/R.framework/Resources/include -I/Library/Frameworks/R.framework/Resources/include/i386  -I/usr/local/include    -fPIC  -g -O2 -Wall -c prob.c -o prob.o
gcc-4.2 -arch i386 -std=gnu99 -I/Library/Frameworks/R.framework/Resources/include -I/Library/Frameworks/R.framework/Resources/include/i386  -I/usr/local/include    -fPIC  -g -O2 -Wall -c viterbi.c -o viterbi.o
gcc-4.2 -arch i386 -std=gnu99 -dynamiclib -Wl,-headerpad_max_install_names -undefined dynamic_lookup -single_module -multiply_defined suppress -L/usr/local/lib -o SMAP.so gradient.o init.o overlap.o prob.o viterbi.o -F/Library/Frameworks/R.framework/.. -framework R -Wl,-framework -Wl,CoreFoundation
** arch - ppc
gcc-4.2 -arch ppc -std=gnu99 -I/Library/Frameworks/R.framework/Resources/include -I/Library/Frameworks/R.framework/Resources/include/ppc  -I/usr/local/include    -fPIC  -g -O2 -c gradient.c -o gradient.o
gcc-4.2 -arch ppc -std=gnu99 -I/Library/Frameworks/R.framework/Resources/include -I/Library/Frameworks/R.framework/Resources/include/ppc  -I/usr/local/include    -fPIC  -g -O2 -c init.c -o init.o
gcc-4.2 -arch ppc -std=gnu99 -I/Library/Frameworks/R.framework/Resources/include -I/Library/Frameworks/R.framework/Resources/include/ppc  -I/usr/local/include    -fPIC  -g -O2 -c overlap.c -o overlap.o
gcc-4.2 -arch ppc -std=gnu99 -I/Library/Frameworks/R.framework/Resources/include -I/Library/Frameworks/R.framework/Resources/include/ppc  -I/usr/local/include    -fPIC  -g -O2 -c prob.c -o prob.o
gcc-4.2 -arch ppc -std=gnu99 -I/Library/Frameworks/R.framework/Resources/include -I/Library/Frameworks/R.framework/Resources/include/ppc  -I/usr/local/include    -fPIC  -g -O2 -c viterbi.c -o viterbi.o
gcc-4.2 -arch ppc -std=gnu99 -dynamiclib -Wl,-headerpad_max_install_names -undefined dynamic_lookup -single_module -multiply_defined suppress -L/usr/local/lib -o SMAP.so gradient.o init.o overlap.o prob.o viterbi.o -F/Library/Frameworks/R.framework/.. -framework R -Wl,-framework -Wl,CoreFoundation
** arch - x86_64
gcc-4.2 -arch x86_64 -std=gnu99 -I/Library/Frameworks/R.framework/Resources/include -I/Library/Frameworks/R.framework/Resources/include/x86_64  -I/usr/local/include    -fPIC  -g -O2 -Wall -c gradient.c -o gradient.o
gradient.c: In function ‘hmm_update’:
gradient.c:247: warning: unused variable ‘tmp’
gcc-4.2 -arch x86_64 -std=gnu99 -I/Library/Frameworks/R.framework/Resources/include -I/Library/Frameworks/R.framework/Resources/include/x86_64  -I/usr/local/include    -fPIC  -g -O2 -Wall -c init.c -o init.o
gcc-4.2 -arch x86_64 -std=gnu99 -I/Library/Frameworks/R.framework/Resources/include -I/Library/Frameworks/R.framework/Resources/include/x86_64  -I/usr/local/include    -fPIC  -g -O2 -Wall -c overlap.c -o overlap.o
gcc-4.2 -arch x86_64 -std=gnu99 -I/Library/Frameworks/R.framework/Resources/include -I/Library/Frameworks/R.framework/Resources/include/x86_64  -I/usr/local/include    -fPIC  -g -O2 -Wall -c prob.c -o prob.o
gcc-4.2 -arch x86_64 -std=gnu99 -I/Library/Frameworks/R.framework/Resources/include -I/Library/Frameworks/R.framework/Resources/include/x86_64  -I/usr/local/include    -fPIC  -g -O2 -Wall -c viterbi.c -o viterbi.o
gcc-4.2 -arch x86_64 -std=gnu99 -dynamiclib -Wl,-headerpad_max_install_names -undefined dynamic_lookup -single_module -multiply_defined suppress -L/usr/local/lib -o SMAP.so gradient.o init.o overlap.o prob.o viterbi.o -F/Library/Frameworks/R.framework/.. -framework R -Wl,-framework -Wl,CoreFoundation
** R
** data
** inst
** preparing package for lazy loading
Creating a new generic function for "plot" in "SMAP"
** help
*** installing help indices
** building package indices ...
* DONE (SMAP)