PCpheno 1.8.0 Nolwenn Le Meur
 | Snapshot Date: 2009-12-13 23:30:35 -0800 (Sun, 13 Dec 2009) |  | URL: https://hedgehog.fhcrc.org/bioconductor/branches/RELEASE_2_5/madman/Rpacks/PCpheno |  | Last Changed Rev: 42684 / Revision: 43539 |  | Last Changed Date: 2009-10-27 16:33:29 -0700 (Tue, 27 Oct 2009) |  
  | wilson2  | Linux (openSUSE 11.1) / x86_64  |  OK  | [ OK ] |  | 
| liverpool  | Windows Server 2003 R2 (32-bit) / x64  |  OK  |  OK  |  OK  | 
| pitt  | Mac OS X Tiger (10.4.11) / i386  |  OK  |  OK  |  OK  | 
| pelham  | Mac OS X Leopard (10.5.8) / i386  |  OK  |  OK  |  OK  | 
* checking for working pdflatex ... OK
* using log directory '/loc/home/biocbuild/bbs-2.5-bioc/meat/PCpheno.Rcheck'
* using R version 2.10.0 (2009-10-26)
* using session charset: UTF-8
* using option '--no-vignettes'
* checking for file 'PCpheno/DESCRIPTION' ... OK
* checking extension type ... Package
* this is package 'PCpheno' version '1.8.0'
* checking package name space information ... OK
* checking package dependencies ... OK
* checking if this is a source package ... OK
* checking whether package 'PCpheno' can be installed ... OK
* checking package directory ... OK
* checking for portable file names ... OK
* checking for sufficient/correct file permissions ... OK
* checking DESCRIPTION meta-information ... OK
* checking top-level files ... OK
* checking index information ... OK
* checking package subdirectories ... OK
* checking R files for non-ASCII characters ... OK
* checking R files for syntax errors ... OK
* checking whether the package can be loaded ... OK
* checking whether the package can be loaded with stated dependencies ... OK
* checking whether the name space can be loaded with stated dependencies ... OK
* checking for unstated dependencies in R code ... OK
* checking S3 generic/method consistency ... OK
* checking replacement functions ... OK
* checking foreign function calls ... OK
* checking R code for possible problems ... OK
* checking Rd files ... OK
* checking Rd metadata ... OK
* checking Rd cross-references ... OK
* checking for missing documentation entries ... OK
* checking for code/documentation mismatches ... OK
* checking Rd \usage sections ... OK
* checking data for non-ASCII characters ... OK
* checking examples ... OK
* checking package vignettes in 'inst/doc' ... SKIPPED
* checking PDF version of manual ... OK
 
* install options are ' --no-html'
* installing *source* package ‘PCpheno’ ...
** R
** data
** inst
** preparing package for lazy loading
Loading required package: AnnotationDbi
Loading required package: Biobase
Welcome to Bioconductor
  Vignettes contain introductory material. To view, type
  'openVignette()'. To cite Bioconductor, see
  'citation("Biobase")' and for packages 'citation(pkgname)'.
Loading required package: GO.db
Loading required package: DBI
Loading required package: RpsiXML
Loading required package: annotate
Loading required package: graph
Loading required package: RBGL
Loading required package: XML
Attaching package: 'XML'
	The following object(s) are masked from package:graph :
	 addNode 
Loading required package: hypergraph
Attaching package: 'hypergraph'
	The following object(s) are masked from package:AnnotationDbi :
	 head,
	 tail 
	The following object(s) are masked from package:utils :
	 head,
	 tail 
Loading required package: apComplex
Loading required package: lattice
Loading required package: ppiData
Warning in namespaceImportFrom(self, asNamespace(ns), allVars, allFuns,  :
  replacing previous import: geneIds
** help
*** installing help indices
** building package indices ...
* DONE (PCpheno)