| Back to the "Multiple platform build/check report" | A B C D E F G H I J K L [M] N O P Q R S T U V W X Y Z | 
| Package 227/353 | Hostname | OS / Arch | BUILD | CHECK | BUILD BIN | ||||
| MVCClass 1.20.0 Elizabeth Whalen 
  | wilson2 | Linux (openSUSE 11.1) / x86_64 | OK | OK | |||||
| liverpool | Windows Server 2003 R2 (32-bit) / x64 | OK | OK | OK | |||||
| pitt | Mac OS X Tiger (10.4.11) / i386 | OK | OK | OK | |||||
| pelham | Mac OS X Leopard (10.5.8) / i386 | OK | OK | [ OK ] | 
| Package: MVCClass | 
| Version: 1.20.0 | 
| Command: /Users/biocbuild/BBS/utils/build-universal.sh MVCClass_1.20.0.tar.gz /Library/Frameworks/R.framework/Versions/2.10/Resources/bin/R MVCClass.buildbin-libdir | 
| StartedAt: 2009-12-14 07:34:58 -0800 (Mon, 14 Dec 2009) | 
| EndedAt: 2009-12-14 07:35:05 -0800 (Mon, 14 Dec 2009) | 
| EllapsedTime: 6.3 seconds | 
| RetCode: 0 | 
| Status: OK | 
| PackageFile: MVCClass_1.20.0.tgz | 
| PackageFileSize: 1.179 MiB | 
                INSTALLATION WITH 'R CMD INSTALL --preclean --library=MVCClass.buildbin-libdir MVCClass_1.20.0.tar.gz'
* installing *source* package ‘MVCClass’ ...
** R
** inst
** preparing package for lazy loading
** help
*** installing help indices
** building package indices ...
* DONE (MVCClass)