MLInterfaces 1.26.0 V. Carey
 | Snapshot Date: 2009-12-13 23:30:35 -0800 (Sun, 13 Dec 2009) |  | URL: https://hedgehog.fhcrc.org/bioconductor/branches/RELEASE_2_5/madman/Rpacks/MLInterfaces |  | Last Changed Rev: 42684 / Revision: 43539 |  | Last Changed Date: 2009-10-27 16:33:29 -0700 (Tue, 27 Oct 2009) |  
  | wilson2  | Linux (openSUSE 11.1) / x86_64  |  OK  |  ERROR  |  | 
| liverpool  | Windows Server 2003 R2 (32-bit) / x64  |  OK  |  ERROR  |  OK  | 
| pitt  | Mac OS X Tiger (10.4.11) / i386  | [ OK ] |  ERROR  |  OK  | 
| pelham  | Mac OS X Leopard (10.5.8) / i386  |  OK  |  ERROR  |  OK  | 
* checking for file 'MLInterfaces/DESCRIPTION' ... OK
* preparing 'MLInterfaces':
* checking DESCRIPTION meta-information ... OK
* installing the package to re-build vignettes
* installing *source* package ‘MLInterfaces’ ...
** R
** inst
** preparing package for lazy loading
Welcome to Bioconductor
  Vignettes contain introductory material. To view, type
  'openVignette()'. To cite Bioconductor, see
  'citation("Biobase")' and for packages 'citation(pkgname)'.
Attaching package: 'genefilter'
	The following object(s) are masked from package:MASS :
	 area 
Loading required package: AnnotationDbi
Loading required package: survival
Loading required package: splines
Loading required package: mvtnorm
Loading required package: modeltools
Loading required package: stats4
Warning in .findOrCopyClass(class2, classDef2, where, "subclass") :
  Class "df_OR_list" is defined (with package slot "party") but no metadata object found to revise subclass information---not exported?  Making a copy in package "MLInterfaces"
** help
*** installing help indices
** building package indices ...
* DONE (MLInterfaces)
* creating vignettes ... OK
* removing junk files
* checking for LF line-endings in source and make files
* checking for empty or unneeded directories
* building 'MLInterfaces_1.26.0.tar.gz'