HilbertVis 1.4.0 Simon Anders
 | Snapshot Date: 2009-12-13 23:30:35 -0800 (Sun, 13 Dec 2009) |  | URL: https://hedgehog.fhcrc.org/bioconductor/branches/RELEASE_2_5/madman/Rpacks/HilbertVis |  | Last Changed Rev: 42684 / Revision: 43539 |  | Last Changed Date: 2009-10-27 16:33:29 -0700 (Tue, 27 Oct 2009) |  
  | wilson2  | Linux (openSUSE 11.1) / x86_64  |  OK  |  OK  |  | 
| liverpool  | Windows Server 2003 R2 (32-bit) / x64  | [ OK ] |  OK  |  OK  | 
| pitt  | Mac OS X Tiger (10.4.11) / i386  |  OK  |  OK  |  OK  | 
| pelham  | Mac OS X Leopard (10.5.8) / i386  |  OK  |  OK  |  OK  | 
* checking for file 'HilbertVis/DESCRIPTION' ... OK
* preparing 'HilbertVis':
* checking DESCRIPTION meta-information ... OK
* cleaning src
* installing the package to re-build vignettes
* installing *source* package 'HilbertVis' ...
** libs
  making DLL ...
gcc -I"e:/biocbld/bbs-2.5-bioc/R/include"        -O3 -Wall  -std=gnu99 -c hilbert.c -o hilbert.o
gcc -I"e:/biocbld/bbs-2.5-bioc/R/include"        -O3 -Wall  -std=gnu99 -c make_wiggle_vector.c -o make_wiggle_vector.o
gcc -I"e:/biocbld/bbs-2.5-bioc/R/include"        -O3 -Wall  -std=gnu99 -c shrink_vector.c -o shrink_vector.o
gcc -shared -s -o HilbertVis.dll tmp.def hilbert.o make_wiggle_vector.o shrink_vector.o -Le:/biocbld/bbs-2.5-bioc/R/bin -lR
  ... done
** R
** inst
** preparing package for lazy loading
** help
*** installing help indices
** building package indices ...
** MD5 sums
* DONE (HilbertVis)
* creating vignettes ... OK
* cleaning src
* removing junk files
* checking for LF line-endings in source and make files
* checking for empty or unneeded directories
* building 'HilbertVis_1.4.0.tar.gz'