GeneticsDesign 1.14.0 The R Genetics Project
 | Snapshot Date: 2009-12-13 23:30:35 -0800 (Sun, 13 Dec 2009) |  | URL: https://hedgehog.fhcrc.org/bioconductor/branches/RELEASE_2_5/madman/Rpacks/GeneticsDesign |  | Last Changed Rev: 42684 / Revision: 43539 |  | Last Changed Date: 2009-10-27 16:33:29 -0700 (Tue, 27 Oct 2009) |  
  | wilson2  | Linux (openSUSE 11.1) / x86_64  | [ OK ] |  OK  |  | 
| liverpool  | Windows Server 2003 R2 (32-bit) / x64  |  OK  |  OK  |  OK  | 
| pitt  | Mac OS X Tiger (10.4.11) / i386  |  OK  |  OK  |  OK  | 
| pelham  | Mac OS X Leopard (10.5.8) / i386  |  OK  |  OK  |  OK  | 
* checking for file 'GeneticsDesign/DESCRIPTION' ... OK
* preparing 'GeneticsDesign':
* checking DESCRIPTION meta-information ... OK
* installing the package to re-build vignettes
* installing *source* package ‘GeneticsDesign’ ...
** R
** inst
** preparing package for lazy loading
Attaching package: 'combinat'
	The following object(s) are masked from package:utils :
	 combn 
Attaching package: 'gdata'
	The following object(s) are masked from package:utils :
	 object.size 
** help
*** installing help indices
** building package indices ...
* DONE (GeneticsDesign)
* creating vignettes ... OK
* removing junk files
* checking for LF line-endings in source and make files
* checking for empty or unneeded directories
* building 'GeneticsDesign_1.14.0.tar.gz'