DEGseq 1.0.4 Likun Wang
 | Snapshot Date: 2009-12-13 23:30:35 -0800 (Sun, 13 Dec 2009) |  | URL: https://hedgehog.fhcrc.org/bioconductor/branches/RELEASE_2_5/madman/Rpacks/DEGseq |  | Last Changed Rev: 43215 / Revision: 43539 |  | Last Changed Date: 2009-11-23 01:21:27 -0800 (Mon, 23 Nov 2009) |  
  | wilson2  | Linux (openSUSE 11.1) / x86_64  |  OK  |  OK  |  | 
| liverpool  | Windows Server 2003 R2 (32-bit) / x64  |  OK  |  OK  | [ OK ] | 
| pitt  | Mac OS X Tiger (10.4.11) / i386  |  OK  |  OK  |  OK  | 
| pelham  | Mac OS X Leopard (10.5.8) / i386  |  OK  |  OK  |  OK  | 
* installing *source* package 'DEGseq' ...
  Using auto-selected zip option '--use-zip-data'
** libs
  making DLL ...
g++ -I"E:/biocbld/bbs-2.5-bioc/R/include"        -O2 -Wall  -c getGeneExp.cpp -o getGeneExp.o
g++ -shared -s -o DEGseq.dll tmp.def getGeneExp.o -LE:/biocbld/bbs-2.5-bioc/R/bin -lR
  ... done
** R
** data
** inst
** preparing package for lazy loading
Loading required package: tcltk
Loading Tcl/Tk interface ... done
Loading required package: impute
** help
*** installing help indices
** building package indices ...
** MD5 sums
packaged installation of 'DEGseq' as DEGseq_1.0.4.zip
* DONE (DEGseq)