CNVtools 1.40.2 Chris Barnes
 | Snapshot Date: 2009-12-13 23:30:35 -0800 (Sun, 13 Dec 2009) |  | URL: https://hedgehog.fhcrc.org/bioconductor/branches/RELEASE_2_5/madman/Rpacks/CNVtools |  | Last Changed Rev: 43278 / Revision: 43539 |  | Last Changed Date: 2009-11-27 01:29:39 -0800 (Fri, 27 Nov 2009) |  
  | wilson2  | Linux (openSUSE 11.1) / x86_64  |  OK  |  OK  |  | 
| liverpool  | Windows Server 2003 R2 (32-bit) / x64  | [ OK ] |  OK  |  OK  | 
| pitt  | Mac OS X Tiger (10.4.11) / i386  |  OK  |  OK  |  OK  | 
| pelham  | Mac OS X Leopard (10.5.8) / i386  |  OK  |  OK  |  OK  | 
* checking for file 'CNVtools/DESCRIPTION' ... OK
* preparing 'CNVtools':
* checking DESCRIPTION meta-information ... OK
* cleaning src
* installing the package to re-build vignettes
* installing *source* package 'CNVtools' ...
** libs
  making DLL ...
g++ -I"e:/biocbld/bbs-2.5-bioc/R/include"        -O2 -Wall  -c fitmodel.cpp -o fitmodel.o
g++ -I"e:/biocbld/bbs-2.5-bioc/R/include"        -O2 -Wall  -c glm_test.cpp -o glm_test.o
g++ -I"e:/biocbld/bbs-2.5-bioc/R/include"        -O2 -Wall  -c mla.cpp -o mla.o
g++ -I"e:/biocbld/bbs-2.5-bioc/R/include"        -O2 -Wall  -c routine.cpp -o routine.o
gcc -I"e:/biocbld/bbs-2.5-bioc/R/include"        -O3 -Wall  -std=gnu99 -c zeroin.c -o zeroin.o
g++ -shared -s -o CNVtools.dll tmp.def fitmodel.o glm_test.o mla.o routine.o zeroin.o -Le:/biocbld/bbs-2.5-bioc/R/bin -lR
  ... done
** R
** data
** inst
** preparing package for lazy loading
Loading required package: splines
** help
*** installing help indices
** building package indices ...
** MD5 sums
* DONE (CNVtools)
* creating vignettes ... OK
* cleaning src
* removing junk files
* checking for LF line-endings in source and make files
* checking for empty or unneeded directories
* building 'CNVtools_1.40.2.tar.gz'