BufferedMatrixMethods 1.10.0 B. M. Bolstad
 | Snapshot Date: 2009-12-13 23:30:35 -0800 (Sun, 13 Dec 2009) |  | URL: https://hedgehog.fhcrc.org/bioconductor/branches/RELEASE_2_5/madman/Rpacks/BufferedMatrixMethods |  | Last Changed Rev: 42684 / Revision: 43539 |  | Last Changed Date: 2009-10-27 16:33:29 -0700 (Tue, 27 Oct 2009) |  
  | wilson2  | Linux (openSUSE 11.1) / x86_64  |  OK  |  OK  |  | 
| liverpool  | Windows Server 2003 R2 (32-bit) / x64  |  OK  |  OK  | [ OK ] | 
| pitt  | Mac OS X Tiger (10.4.11) / i386  |  OK  |  OK  |  OK  | 
| pelham  | Mac OS X Leopard (10.5.8) / i386  |  OK  |  OK  |  OK  | 
* installing *source* package 'BufferedMatrixMethods' ...
** libs
  making DLL ...
gcc -I"E:/biocbld/bbs-2.5-bioc/R/include"   -I"E:/biocbld/bbs-2.5-bioc/R/library/BufferedMatrix/include"     -O3 -Wall  -std=gnu99 -c init_package.c -o init_package.o
gcc -I"E:/biocbld/bbs-2.5-bioc/R/include"   -I"E:/biocbld/bbs-2.5-bioc/R/library/BufferedMatrix/include"     -O3 -Wall  -std=gnu99 -c preprocess_bm.c -o preprocess_bm.o
preprocess_bm.c: In function 'bm_rma_bg_correct':
preprocess_bm.c:343: warning: unused variable 'i'
preprocess_bm.c: In function 'R_bm_rma_bg_correct':
preprocess_bm.c:377: warning: unused variable 'current_mode'
preprocess_bm.c: In function 'R_bm_quantile_normalize':
preprocess_bm.c:592: warning: unused variable 'current_mode'
preprocess_bm.c: In function 'R_bm_rma_bg_correct_quantile_normalize':
preprocess_bm.c:1150: warning: unused variable 'current_mode'
preprocess_bm.c: At top level:
preprocess_bm.c:452: warning: 'min' defined but not used
gcc -shared -s -o BufferedMatrixMethods.dll tmp.def init_package.o preprocess_bm.o -LE:/biocbld/bbs-2.5-bioc/R/bin -lR
  ... done
** R
** preparing package for lazy loading
Attaching package: 'BufferedMatrix'
	The following object(s) are masked from package:base :
	 colMeans,
	 colSums,
	 rowMeans,
	 rowSums 
** help
*** installing help indices
** building package indices ...
** MD5 sums
packaged installation of 'BufferedMatrixMethods' as BufferedMatrixMethods_1.10.0.zip
* DONE (BufferedMatrixMethods)