Biobase 2.6.1 Biocore Team c/o BioC user list
 | Snapshot Date: 2009-12-13 23:30:35 -0800 (Sun, 13 Dec 2009) |  | URL: https://hedgehog.fhcrc.org/bioconductor/branches/RELEASE_2_5/madman/Rpacks/Biobase |  | Last Changed Rev: 43411 / Revision: 43539 |  | Last Changed Date: 2009-12-05 06:53:32 -0800 (Sat, 05 Dec 2009) |  
  | wilson2  | Linux (openSUSE 11.1) / x86_64  |  OK  |  OK  |  | 
| liverpool  | Windows Server 2003 R2 (32-bit) / x64  |  OK  |  OK  | [ OK ] | 
| pitt  | Mac OS X Tiger (10.4.11) / i386  |  OK  |  OK  |  OK  | 
| pelham  | Mac OS X Leopard (10.5.8) / i386  |  OK  |  OK  |  OK  | 
* installing *source* package 'Biobase' ...
  Using auto-selected zip option '--use-zip-data'
** libs
  making DLL ...
gcc -I"E:/biocbld/bbs-2.5-bioc/R/include"        -O3 -Wall  -std=gnu99 -c Rinit.c -o Rinit.o
gcc -I"E:/biocbld/bbs-2.5-bioc/R/include"        -O3 -Wall  -std=gnu99 -c anyMissing.c -o anyMissing.o
gcc -I"E:/biocbld/bbs-2.5-bioc/R/include"        -O3 -Wall  -std=gnu99 -c envir.c -o envir.o
gcc -I"E:/biocbld/bbs-2.5-bioc/R/include"        -O3 -Wall  -std=gnu99 -c matchpt.c -o matchpt.o
gcc -I"E:/biocbld/bbs-2.5-bioc/R/include"        -O3 -Wall  -std=gnu99 -c rowMedians.c -o rowMedians.o
gcc -I"E:/biocbld/bbs-2.5-bioc/R/include"        -O3 -Wall  -std=gnu99 -c sublist_extract.c -o sublist_extract.o
gcc -shared -s -o Biobase.dll tmp.def Rinit.o anyMissing.o envir.o matchpt.o rowMedians.o sublist_extract.o -LE:/biocbld/bbs-2.5-bioc/R/bin -lR
  ... done
** R
** data
** inst
** preparing package for lazy loading
** help
*** installing help indices
** building package indices ...
** MD5 sums
packaged installation of 'Biobase' as Biobase_2.6.1.zip
* DONE (Biobase)