BSgenome 1.14.2 H. Pages
 | Snapshot Date: 2009-12-13 23:30:35 -0800 (Sun, 13 Dec 2009) |  | URL: https://hedgehog.fhcrc.org/bioconductor/branches/RELEASE_2_5/madman/Rpacks/BSgenome |  | Last Changed Rev: 43188 / Revision: 43539 |  | Last Changed Date: 2009-11-20 10:55:16 -0800 (Fri, 20 Nov 2009) |  
  | wilson2  | Linux (openSUSE 11.1) / x86_64  | [ OK ] |  OK  |  | 
| liverpool  | Windows Server 2003 R2 (32-bit) / x64  |  OK  |  OK  |  OK  | 
| pitt  | Mac OS X Tiger (10.4.11) / i386  |  OK  |  OK  |  OK  | 
| pelham  | Mac OS X Leopard (10.5.8) / i386  |  OK  |  OK  |  OK  | 
* checking for file 'BSgenome/DESCRIPTION' ... OK
* preparing 'BSgenome':
* checking DESCRIPTION meta-information ... OK
* installing the package to re-build vignettes
* installing *source* package ‘BSgenome’ ...
** R
** inst
** preparing package for lazy loading
Attaching package: 'IRanges'
	The following object(s) are masked from package:base :
	 Map,
	 cbind,
	 mapply,
	 order,
	 pmax,
	 pmax.int,
	 pmin,
	 pmin.int,
	 rbind,
	 rep.int,
	 table 
** help
*** installing help indices
** building package indices ...
* DONE (BSgenome)
* creating vignettes ... OK
* removing junk files
* checking for LF line-endings in source and make files
* checking for empty or unneeded directories
WARNING: directory 'BSgenome/inst/BSgenomeDataPkg-template/inst/extdata' is empty
* building 'BSgenome_1.14.2.tar.gz'