sscore 1.14.0 Richard Kennedy
 | Bioconductor Changelog |  | Snapshot Date: 2009-04-18 11:27:48 -0700 (Sat, 18 Apr 2009) |  | URL: https://hedgehog.fhcrc.org/bioconductor/branches/RELEASE_2_3/madman/Rpacks/sscore |  | Last Changed Rev: 34811 / Revision: 38965 |  | Last Changed Date: 2008-10-21 15:32:58 -0700 (Tue, 21 Oct 2008) |  
  | wilson2  | Linux (openSUSE 11.1) / x86_64  |  OK  |  OK  |  | 
| liverpool  | Windows Server 2003 R2 (32-bit) / x64  |  OK  |  OK  |  OK  | 
| pitt  | Mac OS X Tiger (10.4.11) / i386  |  OK  |  OK  |  OK  | 
| pelham  | Mac OS X Leopard (10.5.6) / i386  |  OK  |  OK  | [ OK ] | 
                INSTALLATION WITH 'R CMD INSTALL --library=sscore.buildbin-libdir sscore_1.14.0.tar.gz'
* Installing *source* package 'sscore' ...
** R
** inst
** preparing package for lazy loading
Loading required package: affy
Loading required package: Biobase
Loading required package: tools
Welcome to Bioconductor
  Vignettes contain introductory material. To view, type
  'openVignette()'. To cite Bioconductor, see
  'citation("Biobase")' and for packages 'citation(pkgname)'.
Loading required package: affyio
** help
 >>> Building/Updating help pages for package 'sscore'
     Formats: text html latex example 
  OneStepBiweightAlgorithm          text    html    latex
  SScore                            text    html    latex   example
  SScoreBatch                       text    html    latex   example
  computeAffxRawQ                   text    html    latex
  computeAffxSFandSDT               text    html    latex   example
  computeOutlier                    text    html    latex   example
  computeRawQ                       text    html    latex
  computeSFandSDT                   text    html    latex   example
  computeZoneIInfo                  text    html    latex
  computeZonenoise                  text    html    latex
  trimMean                          text    html    latex
** building package indices ...
* DONE (sscore)