qvalue 1.16.0 John D. Storey
 | Bioconductor Changelog |  | Snapshot Date: 2009-04-18 11:27:48 -0700 (Sat, 18 Apr 2009) |  | URL: https://hedgehog.fhcrc.org/bioconductor/branches/RELEASE_2_3/madman/Rpacks/qvalue |  | Last Changed Rev: 34811 / Revision: 38965 |  | Last Changed Date: 2008-10-21 15:32:58 -0700 (Tue, 21 Oct 2008) |  
  | wilson2  | Linux (openSUSE 11.1) / x86_64  |  OK  |  OK  |  | 
| liverpool  | Windows Server 2003 R2 (32-bit) / x64  |  OK  |  OK  |  OK  | 
| pitt  | Mac OS X Tiger (10.4.11) / i386  |  OK  |  OK  | [ OK ] | 
| pelham  | Mac OS X Leopard (10.5.6) / i386  |  OK  |  OK  |  OK  | 
                INSTALLATION WITH 'R CMD INSTALL --library=qvalue.buildbin-libdir qvalue_1.16.0.tar.gz'
* Installing *source* package 'qvalue' ...
** R
** data
** inst
** preparing package for lazy loading
Loading required package: tcltk
Loading Tcl/Tk interface ... done
** help
 >>> Building/Updating help pages for package 'qvalue'
     Formats: text html latex example 
  hedenfalk                         text    html    latex
  qplot                             text    html    latex   example
  qsummary                          text    html    latex   example
  qvalue.gui                        text    html    latex   example
  qvalue                            text    html    latex   example
  qwrite                            text    html    latex   example
** building package indices ...
* DONE (qvalue)