pgUtils 1.14.1 Johannes Rainer
 | Bioconductor Changelog |  | Snapshot Date: 2009-04-18 11:27:48 -0700 (Sat, 18 Apr 2009) |  | URL: https://hedgehog.fhcrc.org/bioconductor/branches/RELEASE_2_3/madman/Rpacks/pgUtils |  | Last Changed Rev: 35898 / Revision: 38965 |  | Last Changed Date: 2008-12-12 02:01:44 -0800 (Fri, 12 Dec 2008) |  
  | wilson2  | Linux (openSUSE 11.1) / x86_64  |  OK  |  OK  |  | 
| liverpool  | Windows Server 2003 R2 (32-bit) / x64  | N O T   S U P P O R T E D | 
| pitt  | Mac OS X Tiger (10.4.11) / i386  |  OK  |  OK  |  OK  | 
| pelham  | Mac OS X Leopard (10.5.6) / i386  |  OK  | [ OK ] |  OK  | 
* checking for working pdflatex ... OK
* using log directory '/Users/biocbuild/bbs-2.3-bioc/meat/pgUtils.Rcheck'
* using R version 2.8.1 Patched (2009-03-18 r48200)
* using session charset: ASCII
* checking for file 'pgUtils/DESCRIPTION' ... OK
* this is package 'pgUtils' version '1.14.1'
* checking package name space information ... OK
* checking package dependencies ... OK
* checking if this is a source package ... OK
* checking whether package 'pgUtils' can be installed ... OK
* checking package directory ... OK
* checking for portable file names ... OK
* checking for sufficient/correct file permissions ... OK
* checking DESCRIPTION meta-information ... OK
* checking top-level files ... OK
* checking index information ... OK
* checking package subdirectories ... OK
* checking R files for non-ASCII characters ... OK
* checking R files for syntax errors ... OK
* checking whether the package can be loaded ... OK
* checking whether the package can be loaded with stated dependencies ... OK
* checking whether the name space can be loaded with stated dependencies ... OK
* checking for unstated dependencies in R code ... OK
* checking S3 generic/method consistency ... OK
* checking replacement functions ... OK
* checking foreign function calls ... OK
* checking R code for possible problems ... NOTE
dbColnames: no visible binding for global variable 'res'
* checking Rd files ... OK
* checking Rd cross-references ... OK
* checking for missing documentation entries ... OK
* checking for code/documentation mismatches ... OK
* checking Rd \usage sections ... OK
* creating pgUtils-Ex.R ... OK
* checking examples ... OK
* creating pgUtils-manual.tex ... OK
* checking pgUtils-manual.tex using pdflatex ... OK
 
* Installing *source* package 'pgUtils' ...
** R
** inst
** preparing package for lazy loading
Loading required package: Rdbi
Loading required package: RdbiPgSQL
** help
 >>> Building/Updating help pages for package 'pgUtils'
     Formats: text html latex example 
Note: removing empty section \note in file 'AutoReference.Rd'
Note: removing empty section \references in file 'AutoReference.Rd'
Note: removing empty section \examples in file 'AutoReference.Rd'
  AutoReference                     text    html    latex
Note: removing empty section \details in file 'auto.fk.name.Rd'
Note: removing empty section \references in file 'auto.fk.name.Rd'
Note: removing empty section \seealso in file 'auto.fk.name.Rd'
Note: removing empty section \examples in file 'auto.fk.name.Rd'
  auto.fk.name                      text    html    latex
Note: removing empty section \details in file 'auto.pk.name.Rd'
Note: removing empty section \references in file 'auto.pk.name.Rd'
Note: removing empty section \seealso in file 'auto.pk.name.Rd'
Note: removing empty section \examples in file 'auto.pk.name.Rd'
  auto.pk.name                      text    html    latex
Note: removing empty section \details in file 'auto.pk.seq.Rd'
Note: removing empty section \references in file 'auto.pk.seq.Rd'
Note: removing empty section \seealso in file 'auto.pk.seq.Rd'
Note: removing empty section \examples in file 'auto.pk.seq.Rd'
  auto.pk.seq                       text    html    latex
Note: removing empty section \references in file 'createDBTable.Rd'
  createDBTable                     text    html    latex   example
Note: removing empty section \references in file 'createSequence.Rd'
  createSequence                    text    html    latex
  dbColnames                        text    html    latex
  dbListDatabases                   text    html    latex
Note: removing empty section \references in file 'dbListSequences.Rd'
  dbListSequences                   text    html    latex
Note: removing empty section \references in file 'deleteDBEntry.Rd'
Note: removing empty section \examples in file 'deleteDBEntry.Rd'
  deleteDBEntry                     text    html    latex
Note: removing empty section \references in file 'do.log.Rd'
  do.log                            text    html    latex
  getRefAttribute-methods           text    html    latex
  getRefColumn-methods              text    html    latex
  getRefTable-methods               text    html    latex
  getSourceAttribute-methods        text    html    latex
  getSourceColumn-methods           text    html    latex
Note: removing empty section \references in file 'insertIntoTable.Rd'
  insertIntoTable                   text    html    latex   example
Note: removing empty section \references in file 'log.file.Rd'
  log.file                          text    html    latex
Note: removing empty section \details in file 'log.level.Rd'
Note: removing empty section \references in file 'log.level.Rd'
  log.level                         text    html    latex
Note: removing empty section \details in file 'loggit.Rd'
Note: removing empty section \references in file 'loggit.Rd'
Note: removing empty section \seealso in file 'loggit.Rd'
Note: removing empty section \examples in file 'loggit.Rd'
  loggit                            text    html    latex
Note: removing empty section \references in file 'searchIn.Rd'
Note: removing empty section \examples in file 'searchIn.Rd'
  searchIn                          text    html    latex
Note: removing empty section \references in file 'updateDBTable.Rd'
Note: removing empty section \examples in file 'updateDBTable.Rd'
  updateDBTable                     text    html    latex
** building package indices ...
* DONE (pgUtils)