pathRender 1.10.0 Li Long
 | Bioconductor Changelog |  | Snapshot Date: 2009-04-18 11:27:48 -0700 (Sat, 18 Apr 2009) |  | URL: https://hedgehog.fhcrc.org/bioconductor/branches/RELEASE_2_3/madman/Rpacks/pathRender |  | Last Changed Rev: 34811 / Revision: 38965 |  | Last Changed Date: 2008-10-21 15:32:58 -0700 (Tue, 21 Oct 2008) |  
  | wilson2  | Linux (openSUSE 11.1) / x86_64  |  OK  |  OK  |  | 
| liverpool  | Windows Server 2003 R2 (32-bit) / x64  |  OK  | [ OK ] |  OK  | 
| pitt  | Mac OS X Tiger (10.4.11) / i386  |  OK  |  OK  |  OK  | 
| pelham  | Mac OS X Leopard (10.5.6) / i386  |  OK  |  OK  |  OK  | 
* checking for working pdflatex ... OK
* using log directory 'E:/biocbld/bbs-2.3-bioc/meat/pathRender.Rcheck'
* using R version 2.8.1 (2008-12-22)
* using session charset: ISO8859-1
* checking for file 'pathRender/DESCRIPTION' ... OK
* this is package 'pathRender' version '1.10.0'
* checking package name space information ... OK
* checking package dependencies ... OK
* checking if this is a source package ... OK
* checking whether package 'pathRender' can be installed ... OK
* checking package directory ... OK
* checking for portable file names ... OK
* checking DESCRIPTION meta-information ... OK
* checking top-level files ... OK
* checking index information ... OK
* checking package subdirectories ... OK
* checking R files for non-ASCII characters ... OK
* checking R files for syntax errors ... OK
* checking whether the package can be loaded ... OK
* checking whether the package can be loaded with stated dependencies ... OK
* checking whether the name space can be loaded with stated dependencies ... OK
* checking for unstated dependencies in R code ... OK
* checking S3 generic/method consistency ... OK
* checking replacement functions ... OK
* checking foreign function calls ... OK
* checking R code for possible problems ... OK
* checking Rd files ... OK
* checking Rd cross-references ... OK
* checking for missing documentation entries ... OK
* checking for code/documentation mismatches ... OK
* checking Rd \usage sections ... OK
* creating pathRender-Ex.R ... OK
* checking examples ... OK
* checking package vignettes in 'inst/doc' ... OK
* creating pathRender-manual.tex ... OK
* checking pathRender-manual.tex using pdflatex ... OK
 
installing R.css in E:/biocbld/bbs-2.3-bioc/meat/pathRender.Rcheck
---------- Making package pathRender ------------
  adding build stamp to DESCRIPTION
  installing NAMESPACE file and metadata
  installing R files
  installing inst files
  preparing package pathRender for lazy loading
Loading required package: graph
Loading required package: Rgraphviz
Loading required package: grid
Loading required package: RColorBrewer
Loading required package: cMAP
Loading required package: AnnotationDbi
Loading required package: Biobase
Loading required package: tools
Welcome to Bioconductor
  Vignettes contain introductory material. To view, type
  'openVignette()'. To cite Bioconductor, see
  'citation("Biobase")' and for packages 'citation(pkgname)'.
Warning in namespaceImportFrom(self, asNamespace(ns), allVars, allFuns,  :
  replacing previous import: plot
  installing man source files
  installing indices
  installing help
 >>> Building/Updating help pages for package 'pathRender'
     Formats: text html latex example chm 
  colorNodes                        text    html    latex   example chm
  coloredGraph-class                text    html    latex   example chm
  graphcMAP                         text    html    latex   example chm
  plotExGraph                       text    html    latex   example chm
  pwayGraph-class                   text    html    latex   example chm
  reduceES                          text    html    latex   example chm
Note: removing empty section \seealso in file 'rendercMAP.Rd'
Note: removing empty section \seealso in file 'rendercMAP.Rd'
  rendercMAP                        text    html    latex   example chm
Microsoft HTML Help Compiler 4.74.8702
Compiling e:\biocbld\bbs-2.3-bioc\meat\pathRender.Rcheck\00_pkg_src\pathRender\chm\pathRender.chm
Compile time: 0 minutes, 0 seconds
8	Topics
18	Local links
0	Internet links
1	Graphic
Created e:\biocbld\bbs-2.3-bioc\meat\pathRender.Rcheck\00_pkg_src\pathRender\chm\pathRender.chm, 23,329 bytes
Compression decreased file by 2,515 bytes.
  adding MD5 sums
* DONE (pathRender)