ctc 1.16.0 Antoine Lucas
 | Bioconductor Changelog |  | Snapshot Date: 2009-04-18 11:27:48 -0700 (Sat, 18 Apr 2009) |  | URL: https://hedgehog.fhcrc.org/bioconductor/branches/RELEASE_2_3/madman/Rpacks/ctc |  | Last Changed Rev: 34811 / Revision: 38965 |  | Last Changed Date: 2008-10-21 15:32:58 -0700 (Tue, 21 Oct 2008) |  
  | wilson2  | Linux (openSUSE 11.1) / x86_64  |  OK  |  OK  |  | 
| liverpool  | Windows Server 2003 R2 (32-bit) / x64  |  OK  |  OK  |  OK  | 
| pitt  | Mac OS X Tiger (10.4.11) / i386  |  OK  |  OK  | [ OK ] | 
| pelham  | Mac OS X Leopard (10.5.6) / i386  |  OK  |  OK  |  OK  | 
                INSTALLATION WITH 'R CMD INSTALL --library=ctc.buildbin-libdir ctc_1.16.0.tar.gz'
* Installing *source* package 'ctc' ...
** R
** demo
** exec
** inst
** preparing package for lazy loading
Loading required package: amap
Loading required package: Biobase
Loading required package: tools
Welcome to Bioconductor
  Vignettes contain introductory material. To view, type
  'openVignette()'. To cite Bioconductor, see
  'citation("Biobase")' and for packages 'citation(pkgname)'.
** help
 >>> Building/Updating help pages for package 'ctc'
     Formats: text html latex example 
  hc2Newick                         text    html    latex   example
  hclust2treeview                   text    html    latex   example
  r2cluster                         text    html    latex   example
  r2gtr                             text    html    latex   example
  r2xcluster                        text    html    latex   example
  read.eisen                        text    html    latex
  xcluster                          text    html    latex   example
  xcluster2r                        text    html    latex   example
** building package indices ...
* DONE (ctc)