TypeInfo 1.8.0 Duncan Temple Lang
 | Bioconductor Changelog |  | Snapshot Date: 2009-04-18 11:27:48 -0700 (Sat, 18 Apr 2009) |  | URL: https://hedgehog.fhcrc.org/bioconductor/branches/RELEASE_2_3/madman/Rpacks/TypeInfo |  | Last Changed Rev: 34811 / Revision: 38965 |  | Last Changed Date: 2008-10-21 15:32:58 -0700 (Tue, 21 Oct 2008) |  
  | wilson2  | Linux (openSUSE 11.1) / x86_64  |  OK  |  OK  |  | 
| liverpool  | Windows Server 2003 R2 (32-bit) / x64  |  OK  |  OK  |  OK  | 
| pitt  | Mac OS X Tiger (10.4.11) / i386  |  OK  |  OK  |  OK  | 
| pelham  | Mac OS X Leopard (10.5.6) / i386  |  OK  |  OK  | [ OK ] | 
                INSTALLATION WITH 'R CMD INSTALL --library=TypeInfo.buildbin-libdir TypeInfo_1.8.0.tar.gz'
* Installing *source* package 'TypeInfo' ...
** R
** inst
** preparing package for lazy loading
** help
 >>> Building/Updating help pages for package 'TypeInfo'
     Formats: text html latex example 
Note: removing empty section \note in file 'ClassNameOrExpression-class.Rd'
Note: removing empty section \references in file 'ClassNameOrExpression-class.Rd'
Note: removing empty section \examples in file 'ClassNameOrExpression-class.Rd'
  ClassNameOrExpression-class       text    html    latex
Note: removing empty section \references in file 'DynamicTypeTest-class.Rd'
  DynamicTypeTest-class             text    html    latex   example
Note: removing empty section \note in file 'IndependentTypeSpecification-class.Rd'
Note: removing empty section \references in file 'IndependentTypeSpecification-class.Rd'
  IndependentTypeSpecification-clas text    html    latex   example
Note: removing empty section \details in file 'IndependentTypeSpecification.Rd'
Note: removing empty section \note in file 'IndependentTypeSpecification.Rd'
Note: removing empty section \references in file 'IndependentTypeSpecification.Rd'
  IndependentTypeSpecification      text    html    latex   example
Note: removing empty section \note in file 'NamedTypeTest-class.Rd'
Note: removing empty section \references in file 'NamedTypeTest-class.Rd'
  NamedTypeTest-class               text    html    latex   example
Note: removing empty section \details in file 'ReturnTypeSpecification.Rd'
Note: removing empty section \note in file 'ReturnTypeSpecification.Rd'
Note: removing empty section \references in file 'ReturnTypeSpecification.Rd'
  ReturnTypeSpecification           text    html    latex   example
Note: removing empty section \details in file 'SimultaneousTypeSpecification.Rd'
Note: removing empty section \note in file 'SimultaneousTypeSpecification.Rd'
Note: removing empty section \references in file 'SimultaneousTypeSpecification.Rd'
  SimultaneousTypeSpecification     text    html    latex   example
Note: removing empty section \examples in file 'TypedSignature-class.Rd'
  TypedSignature-class              text    html    latex
  TypedSignature                    text    html    latex   example
Note: removing empty section \details in file 'checkArgs.Rd'
  checkArgs                         text    html    latex   example
Note: removing empty section \details in file 'checkReturnValue.Rd'
Note: removing empty section \references in file 'checkReturnValue.Rd'
Note: removing empty section \examples in file 'checkReturnValue.Rd'
  checkReturnValue                  text    html    latex
  hasParameterType                  text    html    latex   example
Note: removing empty section \details in file 'paramNames.Rd'
Note: removing empty section \note in file 'paramNames.Rd'
Note: removing empty section \references in file 'paramNames.Rd'
Note: removing empty section \examples in file 'paramNames.Rd'
  paramNames                        text    html    latex
Note: removing empty section \details in file 'rewriteTypeCheck.Rd'
Note: removing empty section \note in file 'rewriteTypeCheck.Rd'
Note: removing empty section \references in file 'rewriteTypeCheck.Rd'
  rewriteTypeCheck                  text    html    latex   example
Note: removing empty section \details in file 'showTypeInfo.Rd'
Note: removing empty section \note in file 'showTypeInfo.Rd'
Note: removing empty section \references in file 'showTypeInfo.Rd'
  showTypeInfo                      text    html    latex   example
Note: removing empty section \details in file 'typeInfo.Rd'
Note: removing empty section \examples in file 'typeInfo.Rd'
  typeInfo                          text    html    latex
** building package indices ...
* DONE (TypeInfo)