MEDME 1.2.1 Mattia Pelizzola
 | Bioconductor Changelog |  | Snapshot Date: 2009-04-18 11:27:48 -0700 (Sat, 18 Apr 2009) |  | URL: https://hedgehog.fhcrc.org/bioconductor/branches/RELEASE_2_3/madman/Rpacks/MEDME |  | Last Changed Rev: 38579 / Revision: 38965 |  | Last Changed Date: 2009-04-07 16:27:19 -0700 (Tue, 07 Apr 2009) |  
  | wilson2  | Linux (openSUSE 11.1) / x86_64  |  OK  |  OK  |  | 
| liverpool  | Windows Server 2003 R2 (32-bit) / x64  |  OK  |  OK  |  OK  | 
| pitt  | Mac OS X Tiger (10.4.11) / i386  | [ OK ] |  OK  |  OK  | 
| pelham  | Mac OS X Leopard (10.5.6) / i386  |  OK  |  OK  |  OK  | 
* checking for file 'MEDME/DESCRIPTION' ... OK
* preparing 'MEDME':
* checking DESCRIPTION meta-information ... OK
* cleaning src
* installing the package to re-build vignettes
* Installing *source* package 'MEDME' ...
** libs
** arch - i386
gcc -arch i386 -std=gnu99 -I/Library/Frameworks/R.framework/Versions/2.8/Resources/include -I/Library/Frameworks/R.framework/Versions/2.8/Resources/include/i386  -I/usr/local/include    -fPIC  -g -O2 -c MEDMEweight.c -o MEDMEweight.o
gcc -arch i386 -std=gnu99 -dynamiclib -Wl,-headerpad_max_install_names -mmacosx-version-min=10.4 -undefined dynamic_lookup -single_module -multiply_defined suppress -L/usr/local/lib -o MEDME.so MEDMEweight.o   -F/Library/Frameworks/R.framework/.. -framework R -Wl,-framework -Wl,CoreFoundation
** arch - ppc
gcc -arch ppc -std=gnu99 -I/Library/Frameworks/R.framework/Versions/2.8/Resources/include -I/Library/Frameworks/R.framework/Versions/2.8/Resources/include/ppc  -I/usr/local/include    -fPIC  -g -O2 -c MEDMEweight.c -o MEDMEweight.o
gcc -arch ppc -std=gnu99 -dynamiclib -Wl,-headerpad_max_install_names -mmacosx-version-min=10.4 -undefined dynamic_lookup -single_module -multiply_defined suppress -L/usr/local/lib -o MEDME.so MEDMEweight.o   -F/Library/Frameworks/R.framework/.. -framework R -Wl,-framework -Wl,CoreFoundation
** R
** data
** inst
** preparing package for lazy loading
Loading required package: MASS
Loading required package: drc
Loading required package: alr3
Loading required package: lattice
Loading required package: magic
Loading required package: abind
Loading required package: nlme
Loading required package: plotrix
'drc' has been loaded.
Please cite R and 'drc' if used for a publication,
for references type 'citation()' and 'citation('drc')'.
** help
 >>> Building/Updating help pages for package 'MEDME'
     Formats: text html latex example 
  CGcount                           text    html    latex   example
  MEDME                             text    html    latex   example
  MEDME.readFiles                   text    html    latex
  MEDME.writeFiles                  text    html    latex
  MEDMEset-class                    text    html    latex   example
  predict                           text    html    latex   example
  smooth                            text    html    latex   example
  testMEDMEset                      text    html    latex
** building package indices ...
* DONE (MEDME)
* creating vignettes ... OK
* cleaning src
* removing junk files
* checking for LF line-endings in source and make files
* checking for empty or unneeded directories
* building 'MEDME_1.2.1.tar.gz'