GeneSpring 2.16.0 Thon de Boer
 | Bioconductor Changelog |  | Snapshot Date: 2009-04-18 11:27:48 -0700 (Sat, 18 Apr 2009) |  | URL: https://hedgehog.fhcrc.org/bioconductor/branches/RELEASE_2_3/madman/Rpacks/GeneSpring |  | Last Changed Rev: 34811 / Revision: 38965 |  | Last Changed Date: 2008-10-21 15:32:58 -0700 (Tue, 21 Oct 2008) |  
  | wilson2  | Linux (openSUSE 11.1) / x86_64  |  OK  |  OK  |  | 
| liverpool  | Windows Server 2003 R2 (32-bit) / x64  | [ OK ] |  OK  |  OK  | 
| pitt  | Mac OS X Tiger (10.4.11) / i386  |  OK  |  OK  |  OK  | 
| pelham  | Mac OS X Leopard (10.5.6) / i386  |  OK  |  OK  |  OK  | 
* checking for file 'GeneSpring/DESCRIPTION' ... OK
* preparing 'GeneSpring':
* checking DESCRIPTION meta-information ... OK
* installing the package to re-build vignettes
installing R.css in E:/biocbld/bbs-2.3-bioc/tmpdir/Rinst400814715
---------- Making package GeneSpring ------------
  adding build stamp to DESCRIPTION
  installing R files
  installing inst files
  preparing package GeneSpring for lazy loading
Loading required package: Biobase
Loading required package: tools
Welcome to Bioconductor
  Vignettes contain introductory material. To view, type
  'openVignette()'. To cite Bioconductor, see
  'citation("Biobase")' and for packages 'citation(pkgname)'.
  installing man source files
  installing indices
  installing help
 >>> Building/Updating help pages for package 'GeneSpring'
     Formats: text html latex example chm 
  GSint                             text    html    latex   example chm
  GSint2BC                          text    html    latex   example chm
Note: removing empty section \examples in file 'GSload.exp.Rd'
Note: removing empty section \examples in file 'GSload.exp.Rd'
  GSload.exp                        text    html    latex           chm
Note: removing empty section \seealso in file 'GSload.genelist.Rd'
Note: removing empty section \seealso in file 'GSload.genelist.Rd'
  GSload.genelist                   text    html    latex   example chm
Note: removing empty section \examples in file 'GSload.int.Rd'
Note: removing empty section \examples in file 'GSload.int.Rd'
  GSload.int                        text    html    latex           chm
  GSsave.exp                        text    html    latex   example chm
Microsoft HTML Help Compiler 4.74.8702
Compiling e:\biocbld\bbs-2.3-bioc\meat\GeneSpring\chm\GeneSpring.chm
Compile time: 0 minutes, 1 second
7	Topics
40	Local links
6	Internet links
1	Graphic
Created e:\biocbld\bbs-2.3-bioc\meat\GeneSpring\chm\GeneSpring.chm, 30,997 bytes
Compression decreased file by 11,187 bytes.
  adding MD5 sums
* DONE (GeneSpring)
* creating vignettes ... OK
* removing junk files
* checking for LF line-endings in source and make files
* checking for empty or unneeded directories
* building 'GeneSpring_2.16.0.tar.gz'