GeneMeta 1.14.0 Biocore Team c/o BioC user list
 | Bioconductor Changelog |  | Snapshot Date: 2009-04-18 11:27:48 -0700 (Sat, 18 Apr 2009) |  | URL: https://hedgehog.fhcrc.org/bioconductor/branches/RELEASE_2_3/madman/Rpacks/GeneMeta |  | Last Changed Rev: 34811 / Revision: 38965 |  | Last Changed Date: 2008-10-21 15:32:58 -0700 (Tue, 21 Oct 2008) |  
  | wilson2  | Linux (openSUSE 11.1) / x86_64  |  OK  |  OK  |  | 
| liverpool  | Windows Server 2003 R2 (32-bit) / x64  | [ OK ] |  OK  |  OK  | 
| pitt  | Mac OS X Tiger (10.4.11) / i386  |  OK  |  OK  |  OK  | 
| pelham  | Mac OS X Leopard (10.5.6) / i386  |  OK  |  OK  |  OK  | 
* checking for file 'GeneMeta/DESCRIPTION' ... OK
* preparing 'GeneMeta':
* checking DESCRIPTION meta-information ... OK
* installing the package to re-build vignettes
installing R.css in E:/biocbld/bbs-2.3-bioc/tmpdir/Rinst570882913
---------- Making package GeneMeta ------------
  adding build stamp to DESCRIPTION
  installing NAMESPACE file and metadata
  installing R files
  installing inst files
  installing data files
  preparing package GeneMeta for lazy loading
Loading required package: Biobase
Loading required package: tools
Welcome to Bioconductor
  Vignettes contain introductory material. To view, type
  'openVignette()'. To cite Bioconductor, see
  'citation("Biobase")' and for packages 'citation(pkgname)'.
Loading required package: genefilter
Loading required package: survival
Loading required package: splines
  installing man source files
  installing indices
  not zipping data
  installing help
 >>> Building/Updating help pages for package 'GeneMeta'
     Formats: text html latex example chm 
Note: ignoring empty \keyword entries in file 'CountPlot.Rd'
Note: removing empty section \value in file 'CountPlot.Rd'
Note: removing empty section \examples in file 'CountPlot.Rd'
Note: ignoring empty \keyword entries in file 'CountPlot.Rd'
Note: removing empty section \value in file 'CountPlot.Rd'
Note: removing empty section \examples in file 'CountPlot.Rd'
  CountPlot                         text    html    latex           chm
  Nevins                            text    html    latex   example chm
  dstar                             text    html    latex   example chm
  f.Q                               text    html    latex   example chm
Note: removing empty section \value in file 'tau.Rd'
Note: removing empty section \details in file 'tau.Rd'
Note: removing empty section \value in file 'tau.Rd'
Note: removing empty section \details in file 'tau.Rd'
  tau                               text    html    latex   example chm
  zscore                            text    html    latex   example chm
Microsoft HTML Help Compiler 4.74.8702
Compiling e:\biocbld\bbs-2.3-bioc\meat\GeneMeta\chm\GeneMeta.chm
Compile time: 0 minutes, 11 seconds
7	Topics
26	Local links
1	Internet link
1	Graphic
Created e:\biocbld\bbs-2.3-bioc\meat\GeneMeta\chm\GeneMeta.chm, 25,255 bytes
Compression decreased file by 2,659 bytes.
  adding MD5 sums
* DONE (GeneMeta)
* creating vignettes ... OK
* removing junk files
* checking for LF line-endings in source and make files
* checking for empty or unneeded directories
* building 'GeneMeta_1.14.0.tar.gz'