CGHbase 1.0.0 Sjoerd Vosse
 | Bioconductor Changelog |  | Snapshot Date: 2009-04-18 11:27:48 -0700 (Sat, 18 Apr 2009) |  | URL: https://hedgehog.fhcrc.org/bioconductor/branches/RELEASE_2_3/madman/Rpacks/CGHbase |  | Last Changed Rev: 34811 / Revision: 38965 |  | Last Changed Date: 2008-10-21 15:32:58 -0700 (Tue, 21 Oct 2008) |  
  | wilson2  | Linux (openSUSE 11.1) / x86_64  |  OK  |  OK  |  | 
| liverpool  | Windows Server 2003 R2 (32-bit) / x64  |  OK  |  OK  |  OK  | 
| pitt  | Mac OS X Tiger (10.4.11) / i386  |  OK  |  OK  |  OK  | 
| pelham  | Mac OS X Leopard (10.5.6) / i386  |  OK  |  OK  | [ OK ] | 
                INSTALLATION WITH 'R CMD INSTALL --library=CGHbase.buildbin-libdir CGHbase_1.0.0.tar.gz'
* Installing *source* package 'CGHbase' ...
** R
** data
** preparing package for lazy loading
Loading required package: Biobase
Loading required package: tools
Welcome to Bioconductor
  Vignettes contain introductory material. To view, type
  'openVignette()'. To cite Bioconductor, see
  'citation("Biobase")' and for packages 'citation(pkgname)'.
Loading required package: marray
Loading required package: limma
** help
 >>> Building/Updating help pages for package 'CGHbase'
     Formats: text html latex example 
  CGHbase-package                   text    html    latex
  WiltingCalled                     text    html    latex
  WiltingData                       text    html    latex
  WiltingNorm                       text    html    latex
  WiltingRaw                        text    html    latex
  WiltingRegions                    text    html    latex
  WiltingSeg                        text    html    latex
  avedist                           text    html    latex
  chromosomes                       text    html    latex
  class.cghCall                     text    html    latex   example
  class.cghRaw                      text    html    latex   example
  class.cghRegions                  text    html    latex   example
  class.cghSeg                      text    html    latex   example
  copynumber                        text    html    latex   example
  frequencyPlot                     text    html    latex   example
  plot                              text    html    latex
  probloss                          text    html    latex
  regions                           text    html    latex
  summaryPlot                       text    html    latex   example
** building package indices ...
* DONE (CGHbase)