DiffBind 1.10.2 Rory Stark
 | Snapshot Date: 2014-10-07 17:20:37 -0700 (Tue, 07 Oct 2014) |  | URL: https://hedgehog.fhcrc.org/bioconductor/branches/RELEASE_2_14/madman/Rpacks/DiffBind |  | Last Changed Rev: 92550 / Revision: 95116 |  | Last Changed Date: 2014-07-16 06:35:48 -0700 (Wed, 16 Jul 2014) |  
  | zin2  | Linux (Ubuntu 12.04.4 LTS) / x86_64  |  OK  |  OK  |  OK  |  | 
| moscato2  | Windows Server 2008 R2 Enterprise SP1 (64-bit) / x64  |  OK  |  OK  |  OK  | [ OK ] | 
| petty  | Mac OS X Snow Leopard (10.6.8) / x86_64  |  OK  |  OK  |  OK  |  OK  | 
| morelia  | Mac OS X Mavericks (10.9.5) / x86_64  |  OK  |  OK  |  OK  |  OK  | 
##############################################################################
##############################################################################
###
### Running command:
###
###   cd DiffBind.buildbin-libdir/DiffBind && zip -r ../../DiffBind_1.10.2.zip . & cd ../..
###
##############################################################################
##############################################################################
  adding: CITATION (188 bytes security) (deflated 55%)
  adding: data/ (256 bytes security) (stored 0%)
  adding: data/datalist (188 bytes security) (deflated 29%)
  adding: data/tamoxifen_analysis.RData (188 bytes security) (deflated 0%)
  adding: data/tamoxifen_counts.RData (188 bytes security) (deflated 0%)
  adding: data/tamoxifen_peaks.RData (188 bytes security) (deflated 0%)
  adding: DESCRIPTION (188 bytes security) (deflated 41%)
  adding: doc/ (256 bytes security) (stored 0%)
  adding: doc/DiffBind.pdf (188 bytes security) (deflated 22%)
  adding: doc/DiffBind.R (188 bytes security) (deflated 86%)
  adding: doc/DiffBind.Rnw (188 bytes security) (deflated 73%)
  adding: doc/index.html (188 bytes security) (deflated 56%)
  adding: extra/ (256 bytes security) (stored 0%)
  adding: extra/config.csv (188 bytes security) (deflated 8%)
  adding: extra/DiffBind-Ex.timings (188 bytes security) (deflated 60%)
  adding: extra/peaks/ (256 bytes security) (stored 0%)
  adding: extra/peaks/BT474_ER_1.bed.gz (188 bytes security) (stored 0%)
  adding: extra/peaks/BT474_ER_2.bed.gz (188 bytes security) (stored 0%)
  adding: extra/peaks/MCF7_ER_1.bed.gz (188 bytes security) (stored 0%)
  adding: extra/peaks/MCF7_ER_2.bed.gz (188 bytes security) (stored 0%)
  adding: extra/peaks/MCF7_ER_3.bed.gz (188 bytes security) (stored 0%)
  adding: extra/peaks/T47D_ER_1.bed.gz (188 bytes security) (stored 0%)
  adding: extra/peaks/T47D_ER_2.bed.gz (188 bytes security) (stored 0%)
  adding: extra/peaks/TAMR_ER_1.bed.gz (188 bytes security) (stored 0%)
  adding: extra/peaks/TAMR_ER_2.bed.gz (188 bytes security) (stored 0%)
  adding: extra/peaks/ZR75_ER_1.bed.gz (188 bytes security) (deflated 0%)
  adding: extra/peaks/ZR75_ER_2.bed.gz (188 bytes security) (deflated 0%)
  adding: extra/tamoxifen.csv (188 bytes security) (deflated 77%)
  adding: extra/tamoxifen_allfields.csv (188 bytes security) (deflated 78%)
  adding: extra/tamoxifen_GEO.csv (188 bytes security) (deflated 80%)
  adding: extra/tamoxifen_GEO.R (188 bytes security) (deflated 77%)
  adding: help/ (256 bytes security) (stored 0%)
  adding: help/aliases.rds (188 bytes security) (stored 0%)
  adding: help/AnIndex (188 bytes security) (deflated 78%)
  adding: help/DiffBind.rdb (188 bytes security) (deflated 1%)
  adding: help/DiffBind.rdx (188 bytes security) (stored 0%)
  adding: help/paths.rds (188 bytes security) (stored 0%)
  adding: html/ (256 bytes security) (stored 0%)
  adding: html/00Index.html (188 bytes security) (deflated 87%)
  adding: html/R.css (188 bytes security) (deflated 70%)
  adding: INDEX (188 bytes security) (deflated 66%)
  adding: libs/ (256 bytes security) (stored 0%)
  adding: libs/i386/ (256 bytes security) (stored 0%)
  adding: libs/i386/DiffBind.dll (188 bytes security) (deflated 62%)
  adding: libs/x64/ (256 bytes security) (stored 0%)
  adding: libs/x64/DiffBind.dll (188 bytes security) (deflated 67%)
  adding: MD5 (188 bytes security) (deflated 48%)
  adding: Meta/ (256 bytes security) (stored 0%)
  adding: Meta/data.rds (188 bytes security) (stored 0%)
  adding: Meta/hsearch.rds (188 bytes security) (stored 0%)
  adding: Meta/links.rds (188 bytes security) (stored 0%)
  adding: Meta/nsInfo.rds (188 bytes security) (stored 0%)
  adding: Meta/package.rds (188 bytes security) (stored 0%)
  adding: Meta/Rd.rds (188 bytes security) (stored 0%)
  adding: Meta/vignette.rds (188 bytes security) (stored 0%)
  adding: NAMESPACE (188 bytes security) (deflated 69%)
  adding: NEWS.Rd (188 bytes security) (deflated 66%)
  adding: R/ (256 bytes security) (stored 0%)
  adding: R/DiffBind (188 bytes security) (deflated 41%)
  adding: R/DiffBind.rdb (188 bytes security) (deflated 5%)
  adding: R/DiffBind.rdx (188 bytes security) (stored 0%)