| ReadqPCR 1.10.0 James Perkins
 
 | Snapshot Date: 2014-10-07 17:20:37 -0700 (Tue, 07 Oct 2014) |  | URL: https://hedgehog.fhcrc.org/bioconductor/branches/RELEASE_2_14/madman/Rpacks/ReadqPCR |  | Last Changed Rev: 88838 / Revision: 95116 |  | Last Changed Date: 2014-04-11 14:07:21 -0700 (Fri, 11 Apr 2014) | 
 | zin2 | Linux (Ubuntu 12.04.4 LTS) / x86_64 | OK | OK | OK |  | 
| moscato2 | Windows Server 2008 R2 Enterprise SP1 (64-bit) / x64 | OK | OK | OK | [ OK ] | 
| petty | Mac OS X Snow Leopard (10.6.8) / x86_64 | OK | OK | OK | OK | 
| morelia | Mac OS X Mavericks (10.9.5) / x86_64 | OK | OK | OK | OK | 
##############################################################################
##############################################################################
###
### Running command:
###
###   cd ReadqPCR.buildbin-libdir/ReadqPCR && zip -r ../../ReadqPCR_1.10.0.zip . & cd ../..
###
##############################################################################
##############################################################################
  adding: CITATION (188 bytes security) (deflated 59%)
  adding: DESCRIPTION (188 bytes security) (deflated 32%)
  adding: doc/ (256 bytes security) (stored 0%)
  adding: doc/index.html (188 bytes security) (deflated 56%)
  adding: doc/ReadqPCR.pdf (188 bytes security) (deflated 8%)
  adding: doc/ReadqPCR.R (188 bytes security) (deflated 84%)
  adding: doc/ReadqPCR.Rnw (188 bytes security) (deflated 69%)
  adding: exData/ (256 bytes security) (stored 0%)
  adding: exData/Efficiencies.txt (188 bytes security) (deflated 49%)
  adding: exData/example.txt (188 bytes security) (deflated 76%)
  adding: exData/example2.txt (188 bytes security) (deflated 77%)
  adding: exData/exampleTechReps.txt (188 bytes security) (deflated 87%)
  adding: exData/exampleWithPlateNames.txt (188 bytes security) (deflated 79%)
  adding: exData/exampleWithPlateNames2.txt (188 bytes security) (deflated 79%)
  adding: exData/LC480_Example.txt (188 bytes security) (deflated 86%)
  adding: exData/LC480_Example_SampleInfo.txt (188 bytes security) (deflated 84%)
  adding: exData/qPCR.example.txt (188 bytes security) (deflated 63%)
  adding: exData/qPCR.noPlateOrWell.txt (188 bytes security) (deflated 61%)
  adding: exData/qPCR.techReps.txt (188 bytes security) (deflated 60%)
  adding: help/ (256 bytes security) (stored 0%)
  adding: help/aliases.rds (188 bytes security) (stored 0%)
  adding: help/AnIndex (188 bytes security) (deflated 77%)
  adding: help/paths.rds (188 bytes security) (stored 0%)
  adding: help/ReadqPCR.rdb (188 bytes security) (deflated 1%)
  adding: help/ReadqPCR.rdx (188 bytes security) (stored 0%)
  adding: html/ (256 bytes security) (stored 0%)
  adding: html/00Index.html (188 bytes security) (deflated 82%)
  adding: html/R.css (188 bytes security) (deflated 70%)
  adding: INDEX (188 bytes security) (deflated 60%)
  adding: MD5 (188 bytes security) (deflated 46%)
  adding: Meta/ (256 bytes security) (stored 0%)
  adding: Meta/hsearch.rds (188 bytes security) (stored 0%)
  adding: Meta/links.rds (188 bytes security) (stored 0%)
  adding: Meta/nsInfo.rds (188 bytes security) (stored 0%)
  adding: Meta/package.rds (188 bytes security) (stored 0%)
  adding: Meta/Rd.rds (188 bytes security) (stored 0%)
  adding: Meta/vignette.rds (188 bytes security) (stored 0%)
  adding: NAMESPACE (188 bytes security) (deflated 61%)
  adding: R/ (256 bytes security) (stored 0%)
  adding: R/ReadqPCR (188 bytes security) (deflated 41%)
  adding: R/ReadqPCR.rdb (188 bytes security) (deflated 27%)
  adding: R/ReadqPCR.rdx (188 bytes security) (stored 0%)