limmaGUI 1.38.0 Keith Satterley
 | Snapshot Date: 2014-04-04 16:20:29 -0700 (Fri, 04 Apr 2014) |  | URL: https://hedgehog.fhcrc.org/bioconductor/branches/RELEASE_2_13/madman/Rpacks/limmaGUI |  | Last Changed Rev: 81642 / Revision: 88450 |  | Last Changed Date: 2013-10-14 14:29:21 -0700 (Mon, 14 Oct 2013) |  
  | zin1  | Linux (Ubuntu 12.04.4 LTS) / x86_64  |  OK  |  OK  |  | 
| moscato1  | Windows Server 2008 R2 Enterprise SP1 (64-bit) / x64  |  OK  |  OK  | [ OK ] | 
| perceval  | Mac OS X Snow Leopard (10.6.8) / x86_64  |  OK  |  OK  |  OK  | 
  adding: CITATION (188 bytes security) (deflated 73%)
  adding: DESCRIPTION (188 bytes security) (deflated 35%)
  adding: doc/ (256 bytes security) (stored 0%)
  adding: doc/about.html (188 bytes security) (deflated 51%)
  adding: doc/about_files/ (256 bytes security) (stored 0%)
  adding: doc/ApoAI/ (256 bytes security) (stored 0%)
  adding: doc/ApoAI/index.html (188 bytes security) (deflated 69%)
  adding: doc/Bob/ (256 bytes security) (stored 0%)
  adding: doc/Bob/.xvpics/ (256 bytes security) (stored 0%)
  adding: doc/Bob/index.html (188 bytes security) (deflated 63%)
  adding: doc/changelog.txt (188 bytes security) (deflated 55%)
  adding: doc/CustMenu.html (188 bytes security) (deflated 52%)
  adding: doc/extract.pdf (188 bytes security) (deflated 7%)
  adding: doc/extract.Rnw (188 bytes security) (deflated 66%)
  adding: doc/extract.Rnw.txt (188 bytes security) (deflated 63%)
  adding: doc/import/ (256 bytes security) (stored 0%)
  adding: doc/import.html (188 bytes security) (deflated 59%)
  adding: doc/index.html (188 bytes security) (deflated 55%)
  adding: doc/input/ (256 bytes security) (stored 0%)
  adding: doc/InputFiles.html (188 bytes security) (deflated 61%)
  adding: doc/lgDevel.html (188 bytes security) (deflated 68%)
  adding: doc/limmaGUI.pdf (188 bytes security) (deflated 5%)
  adding: doc/limmaGUI.R (188 bytes security) (deflated 70%)
  adding: doc/limmaGUI.Rnw (188 bytes security) (deflated 50%)
  adding: doc/LinModIntro.pdf (188 bytes security) (deflated 16%)
  adding: doc/LinModIntro.tex (188 bytes security) (deflated 58%)
  adding: doc/style.css (188 bytes security) (deflated 42%)
  adding: doc/Swirl/ (256 bytes security) (stored 0%)
  adding: doc/Swirl/.xvpics/ (256 bytes security) (stored 0%)
  adding: doc/Swirl/index.html (188 bytes security) (deflated 67%)
  adding: doc/Weaver/ (256 bytes security) (stored 0%)
  adding: doc/Weaver/.xvpics/ (256 bytes security) (stored 0%)
  adding: doc/Weaver/index.html (188 bytes security) (deflated 64%)
  adding: doc/windowsFocus.html (188 bytes security) (deflated 59%)
  adding: etc/ (256 bytes security) (stored 0%)
  adding: etc/hist.R (188 bytes security) (deflated 51%)
  adding: etc/limmaGUI-menus.txt (188 bytes security) (deflated 85%)
  adding: etc/recent-files.txt (188 bytes security) (stored 0%)
  adding: help/ (256 bytes security) (stored 0%)
  adding: help/aliases.rds (188 bytes security) (stored 0%)
  adding: help/AnIndex (188 bytes security) (deflated 71%)
  adding: help/limmaGUI.rdb (188 bytes security) (deflated 0%)
  adding: help/limmaGUI.rdx (188 bytes security) (stored 0%)
  adding: help/paths.rds (188 bytes security) (stored 0%)
  adding: html/ (256 bytes security) (stored 0%)
  adding: html/00Index.html (188 bytes security) (deflated 91%)
  adding: html/R.css (188 bytes security) (deflated 70%)
  adding: INDEX (188 bytes security) (deflated 41%)
  adding: MD5 (188 bytes security) (deflated 44%)
  adding: Meta/ (256 bytes security) (stored 0%)
  adding: Meta/hsearch.rds (188 bytes security) (stored 0%)
  adding: Meta/links.rds (188 bytes security) (stored 0%)
  adding: Meta/nsInfo.rds (188 bytes security) (stored 0%)
  adding: Meta/package.rds (188 bytes security) (stored 0%)
  adding: Meta/Rd.rds (188 bytes security) (stored 0%)
  adding: Meta/vignette.rds (188 bytes security) (stored 0%)
  adding: NAMESPACE (188 bytes security) (stored 0%)
  adding: R/ (256 bytes security) (stored 0%)
  adding: R/limmaGUI (188 bytes security) (deflated 41%)
  adding: R/limmaGUI.rdb (188 bytes security) (deflated 0%)
  adding: R/limmaGUI.rdx (188 bytes security) (stored 0%)