ggbio 1.10.16 Tengfei Yin
 | Snapshot Date: 2014-04-04 16:20:29 -0700 (Fri, 04 Apr 2014) |  | URL: https://hedgehog.fhcrc.org/bioconductor/branches/RELEASE_2_13/madman/Rpacks/ggbio |  | Last Changed Rev: 88437 / Revision: 88450 |  | Last Changed Date: 2014-04-04 11:55:00 -0700 (Fri, 04 Apr 2014) |  
  | zin1  | Linux (Ubuntu 12.04.4 LTS) / x86_64  |  OK  |  WARNINGS  |  | 
| moscato1  | Windows Server 2008 R2 Enterprise SP1 (64-bit) / x64  |  OK  |  WARNINGS  |  OK  | 
| perceval  | Mac OS X Snow Leopard (10.6.8) / x86_64  |  OK  |  WARNINGS  | [ OK ] | 
>>>>>>> 
>>>>>>> INSTALLATION WITH 'R CMD INSTALL --preclean --no-multiarch --library=ggbio.buildbin-libdir ggbio_1.10.16.tar.gz'
>>>>>>> 
* installing *source* package ‘ggbio’ ...
** R
** inst
** preparing package for lazy loading
in method for ‘getLimits’ with signature ‘"GGbio"’: no definition for class “GGbio”
in method for ‘getLimits’ with signature ‘"ggplotPlot"’: no definition for class “ggplotPlot”
in method for ‘getLimits’ with signature ‘"ggbioPlot"’: no definition for class “ggbioPlot”
Creating a new generic function for ‘rescale’ in package ‘ggbio’
Creating a new generic function for ‘xlim’ in package ‘ggbio’
in method for ‘labeled’ with signature ‘"Ideogram"’: no definition for class “Ideogram”
in method for ‘labeled<-’ with signature ‘"Ideogram","logical"’: no definition for class “Ideogram”
Creating a generic function for ‘print’ from package ‘base’ in package ‘ggbio’
NOTE: arguments in definition for validity method for class 'PlotList' changed from (x) to (object)
Creating a generic function for ‘summary’ from package ‘base’ in package ‘ggbio’
Creating a new generic function for ‘geom_rect’ in package ‘ggbio’
Creating a new generic function for ‘geom_segment’ in package ‘ggbio’
Creating a new generic function for ‘geom_bar’ in package ‘ggbio’
Creating a new generic function for ‘stat_identity’ in package ‘ggbio’
Creating a new generic function for ‘stat_bin’ in package ‘ggbio’
** help
*** installing help indices
** building package indices
** installing vignettes
** testing if installed package can be loaded
* DONE (ggbio)