gaggle 1.30.0 Christopher Bare
 | Snapshot Date: 2014-04-04 16:20:29 -0700 (Fri, 04 Apr 2014) |  | URL: https://hedgehog.fhcrc.org/bioconductor/branches/RELEASE_2_13/madman/Rpacks/gaggle |  | Last Changed Rev: 81642 / Revision: 88450 |  | Last Changed Date: 2013-10-14 14:29:21 -0700 (Mon, 14 Oct 2013) |  
  | zin1  | Linux (Ubuntu 12.04.4 LTS) / x86_64  |  OK  |  OK  |  | 
| moscato1  | Windows Server 2008 R2 Enterprise SP1 (64-bit) / x64  |  OK  |  OK  |  OK  | 
| perceval  | Mac OS X Snow Leopard (10.6.8) / x86_64  |  OK  |  OK  | [ OK ] | 
>>>>>>> 
>>>>>>> INSTALLATION WITH 'R CMD INSTALL --preclean --no-multiarch --library=gaggle.buildbin-libdir gaggle_1.30.0.tar.gz'
>>>>>>> 
* installing *source* package ‘gaggle’ ...
** R
** inst
** preparing package for lazy loading
** help
*** installing help indices
** building package indices
** installing vignettes
** testing if installed package can be loaded
onLoad -- libname: /Users/biocbuild/bbs-2.13-bioc/meat/gaggle.buildbin-libdir pkgname: gaggle 
path to jar: /Users/biocbuild/bbs-2.13-bioc/meat/gaggle.buildbin-libdir/gaggle/jars/gaggleRShell.jar 
      script:  gaggle.R $Revision: 4499 $   $Date: 2010-08-10 17:15:03 -0700 (Tue, 10 Aug 2010) $ 
  os version:  Mac OS X 
 jvm version:  1.6.0_43 
* DONE (gaggle)