dexus 1.2.2 Guenter Klambauer
 | Snapshot Date: 2014-04-04 16:20:29 -0700 (Fri, 04 Apr 2014) |  | URL: https://hedgehog.fhcrc.org/bioconductor/branches/RELEASE_2_13/madman/Rpacks/dexus |  | Last Changed Rev: 85162 / Revision: 88450 |  | Last Changed Date: 2013-12-30 05:50:04 -0800 (Mon, 30 Dec 2013) |  
  | zin1  | Linux (Ubuntu 12.04.4 LTS) / x86_64  |  OK  |  WARNINGS  |  | 
| moscato1  | Windows Server 2008 R2 Enterprise SP1 (64-bit) / x64  |  OK  |  WARNINGS  | [ OK ] | 
| perceval  | Mac OS X Snow Leopard (10.6.8) / x86_64  |  OK  |  WARNINGS  |  OK  | 
  adding: CITATION (188 bytes security) (deflated 54%)
  adding: data/ (256 bytes security) (stored 0%)
  adding: data/datalist (188 bytes security) (deflated 27%)
  adding: data/dexus.RData (188 bytes security) (deflated 0%)
  adding: DESCRIPTION (188 bytes security) (deflated 51%)
  adding: doc/ (256 bytes security) (stored 0%)
  adding: doc/dexus.pdf (188 bytes security) (deflated 24%)
  adding: doc/dexus.R (188 bytes security) (deflated 86%)
  adding: doc/dexus.Rnw (188 bytes security) (deflated 69%)
  adding: doc/index.html (188 bytes security) (deflated 56%)
  adding: help/ (256 bytes security) (stored 0%)
  adding: help/aliases.rds (188 bytes security) (stored 0%)
  adding: help/AnIndex (188 bytes security) (deflated 79%)
  adding: help/dexus.rdb (188 bytes security) (deflated 1%)
  adding: help/dexus.rdx (188 bytes security) (stored 0%)
  adding: help/paths.rds (188 bytes security) (stored 0%)
  adding: html/ (256 bytes security) (stored 0%)
  adding: html/00Index.html (188 bytes security) (deflated 83%)
  adding: html/R.css (188 bytes security) (deflated 70%)
  adding: INDEX (188 bytes security) (deflated 60%)
  adding: libs/ (256 bytes security) (stored 0%)
  adding: libs/i386/ (256 bytes security) (stored 0%)
  adding: libs/i386/dexus.dll (188 bytes security) (deflated 65%)
  adding: libs/x64/ (256 bytes security) (stored 0%)
  adding: libs/x64/dexus.dll (188 bytes security) (deflated 69%)
  adding: MD5 (188 bytes security) (deflated 42%)
  adding: Meta/ (256 bytes security) (stored 0%)
  adding: Meta/data.rds (188 bytes security) (stored 0%)
  adding: Meta/hsearch.rds (188 bytes security) (stored 0%)
  adding: Meta/links.rds (188 bytes security) (stored 0%)
  adding: Meta/nsInfo.rds (188 bytes security) (stored 0%)
  adding: Meta/package.rds (188 bytes security) (stored 0%)
  adding: Meta/Rd.rds (188 bytes security) (stored 0%)
  adding: Meta/vignette.rds (188 bytes security) (stored 0%)
  adding: NAMESPACE (188 bytes security) (deflated 57%)
  adding: R/ (256 bytes security) (stored 0%)
  adding: R/dexus (188 bytes security) (deflated 41%)
  adding: R/dexus.rdb (188 bytes security) (deflated 33%)
  adding: R/dexus.rdx (188 bytes security) (stored 0%)