cleanUpdTSeq 1.0.2 Sarah Sheppard ; Jianhong Ou ; Lihua Julie Zhu
 | Snapshot Date: 2014-04-04 16:20:29 -0700 (Fri, 04 Apr 2014) |  | URL: https://hedgehog.fhcrc.org/bioconductor/branches/RELEASE_2_13/madman/Rpacks/cleanUpdTSeq |  | Last Changed Rev: 83547 / Revision: 88450 |  | Last Changed Date: 2013-11-22 13:39:16 -0800 (Fri, 22 Nov 2013) |  
  | zin1  | Linux (Ubuntu 12.04.4 LTS) / x86_64  |  OK  |  OK  |  | 
| moscato1  | Windows Server 2008 R2 Enterprise SP1 (64-bit) / x64  |  OK  |  OK  | [ OK ] | 
| perceval  | Mac OS X Snow Leopard (10.6.8) / x86_64  |  OK  |  OK  |  OK  | 
Scanning files 
  adding: CITATION (188 bytes security) (deflated 50%)
  adding: data/ (256 bytes security) (stored 0%)
  adding: data/data.NaiveBayes.rda (188 bytes security) (deflated 9%)
  adding: data/datalist (188 bytes security) (stored 0%)
  adding: DESCRIPTION (188 bytes security) (deflated 44%)
  adding: doc/ (256 bytes security) (stored 0%)
  adding: doc/cleanUpdTSeq.pdf (188 bytes security) (deflated 9%)
  adding: doc/cleanUpdTSeq.R (188 bytes security) (deflated 72%)
  adding: doc/cleanUpdTSeq.Rnw (188 bytes security) (deflated 61%)
  adding: doc/index.html (188 bytes security) (deflated 59%)
  adding: extdata/ (256 bytes security) (stored 0%)
  adding: extdata/test.bed (188 bytes security) (deflated 67%)
  adding: help/ (256 bytes security) (stored 0%)
  adding: help/aliases.rds (188 bytes security) (stored 0%)
  adding: help/AnIndex (188 bytes security) (deflated 55%)
  adding: help/cleanUpdTSeq.rdb (188 bytes security) (deflated 1%)
  adding: help/cleanUpdTSeq.rdx (188 bytes security) (stored 0%)
  adding: help/paths.rds (188 bytes security) (stored 0%)
  adding: html/ (256 bytes security) (stored 0%)
  adding: html/00Index.html (188 bytes security) (deflated 65%)
  adding: html/R.css (188 bytes security) (deflated 70%)
  adding: INDEX (188 bytes security) (deflated 48%)
  adding: MD5 (188 bytes security) (deflated 43%)
  adding: Meta/ (256 bytes security) (stored 0%)
  adding: Meta/data.rds (188 bytes security) (stored 0%)
  adding: Meta/hsearch.rds (188 bytes security) (stored 0%)
  adding: Meta/links.rds (188 bytes security) (stored 0%)
  adding: Meta/nsInfo.rds (188 bytes security) (stored 0%)
  adding: Meta/package.rds (188 bytes security) (stored 0%)
  adding: Meta/Rd.rds (188 bytes security) (stored 0%)
  adding: Meta/vignette.rds (188 bytes security) (stored 0%)
  adding: NAMESPACE (188 bytes security) (deflated 37%)
  adding: NEWS (188 bytes security) (deflated 23%)
  adding: R/ (256 bytes security) (stored 0%)
  adding: R/cleanUpdTSeq (188 bytes security) (deflated 41%)
  adding: R/cleanUpdTSeq.rdb (188 bytes security) (deflated 2%)
  adding: R/cleanUpdTSeq.rdx (188 bytes security) (stored 0%)