biovizBase 1.10.8 Tengfei Yin
 | Snapshot Date: 2014-04-04 16:20:29 -0700 (Fri, 04 Apr 2014) |  | URL: https://hedgehog.fhcrc.org/bioconductor/branches/RELEASE_2_13/madman/Rpacks/biovizBase |  | Last Changed Rev: 86925 / Revision: 88450 |  | Last Changed Date: 2014-02-28 04:43:06 -0800 (Fri, 28 Feb 2014) |  
  | zin1  | Linux (Ubuntu 12.04.4 LTS) / x86_64  |  OK  |  OK  |  | 
| moscato1  | Windows Server 2008 R2 Enterprise SP1 (64-bit) / x64  |  OK  |  OK  |  OK  | 
| perceval  | Mac OS X Snow Leopard (10.6.8) / x86_64  |  OK  |  OK  | [ OK ] | 
>>>>>>> 
>>>>>>> INSTALLATION WITH 'R CMD INSTALL --preclean --no-multiarch --library=biovizBase.buildbin-libdir biovizBase_1.10.8.tar.gz'
>>>>>>> 
* installing *source* package ‘biovizBase’ ...
** libs
llvm-gcc-4.2 -arch x86_64 -std=gnu99 -I/Library/Frameworks/R.framework/Resources/include -DNDEBUG  -I/usr/local/include    -fPIC  -mtune=core2 -g -O2 -Wall  -c R_init_biovizBase.c -o R_init_biovizBase.o
llvm-gcc-4.2 -arch x86_64 -std=gnu99 -I/Library/Frameworks/R.framework/Resources/include -DNDEBUG  -I/usr/local/include    -fPIC  -mtune=core2 -g -O2 -Wall  -c bin_offsets.c -o bin_offsets.o
bin_offsets.c: In function ‘scan_bam_bin_offsets’:
bin_offsets.c:57: warning: pointer targets in passing argument 1 of ‘strncmp’ differ in signedness
llvm-gcc-4.2 -arch x86_64 -std=gnu99 -dynamiclib -Wl,-headerpad_max_install_names -undefined dynamic_lookup -single_module -multiply_defined suppress -L/usr/local/lib -L/usr/local/lib -o biovizBase.so R_init_biovizBase.o bin_offsets.o -F/Library/Frameworks/R.framework/.. -framework R -Wl,-framework -Wl,CoreFoundation
installing to /Users/biocbuild/bbs-2.13-bioc/meat/biovizBase.buildbin-libdir/biovizBase/libs
** R
** data
** inst
** preparing package for lazy loading
** help
*** installing help indices
** building package indices
** installing vignettes
** testing if installed package can be loaded
* DONE (biovizBase)
>>>>>>> 
>>>>>>> FIXING LINKS FOR biovizBase.buildbin-libdir/biovizBase/libs//biovizBase.so
>>>>>>> 
install_name_tool -change "/usr/local/lib/libgcc_s.1.dylib" "/Library/Frameworks/R.framework/Versions/3.0/Resources/lib/libgcc_s.1.dylib" "biovizBase.buildbin-libdir/biovizBase/libs//biovizBase.so"
install_name_tool -change "/usr/local/lib/libgfortran.2.dylib" "/Library/Frameworks/R.framework/Versions/3.0/Resources/lib/libgfortran.2.dylib" "biovizBase.buildbin-libdir/biovizBase/libs//biovizBase.so"
install_name_tool -change "/usr/local/lib/libreadline.5.2.dylib" "/Library/Frameworks/R.framework/Versions/3.0/Resources/lib/libreadline.5.2.dylib" "biovizBase.buildbin-libdir/biovizBase/libs//biovizBase.so"
install_name_tool -change "/usr/local/lib/libreadline.dylib" "/Library/Frameworks/R.framework/Versions/3.0/Resources/lib/libreadline.dylib" "biovizBase.buildbin-libdir/biovizBase/libs//biovizBase.so"