Rgraphviz 2.6.0 Kasper Daniel Hansen
 | Snapshot Date: 2014-04-04 16:20:29 -0700 (Fri, 04 Apr 2014) |  | URL: https://hedgehog.fhcrc.org/bioconductor/branches/RELEASE_2_13/madman/Rpacks/Rgraphviz |  | Last Changed Rev: 81642 / Revision: 88450 |  | Last Changed Date: 2013-10-14 14:29:21 -0700 (Mon, 14 Oct 2013) |  
  | zin1  | Linux (Ubuntu 12.04.4 LTS) / x86_64  |  OK  |  OK  |  | 
| moscato1  | Windows Server 2008 R2 Enterprise SP1 (64-bit) / x64  |  OK  |  OK  | [ OK ] | 
| perceval  | Mac OS X Snow Leopard (10.6.8) / x86_64  |  OK  |  OK  |  OK  | 
  adding: DESCRIPTION (188 bytes security) (deflated 41%)
  adding: doc/ (256 bytes security) (stored 0%)
  adding: doc/index.html (188 bytes security) (deflated 67%)
  adding: doc/newRgraphvizInterface.pdf (188 bytes security) (deflated 27%)
  adding: doc/newRgraphvizInterface.R (188 bytes security) (deflated 79%)
  adding: doc/newRgraphvizInterface.Rnw (188 bytes security) (deflated 67%)
  adding: doc/Rgraphviz.pdf (188 bytes security) (deflated 24%)
  adding: doc/Rgraphviz.R (188 bytes security) (deflated 79%)
  adding: doc/Rgraphviz.Rnw (188 bytes security) (deflated 67%)
  adding: help/ (256 bytes security) (stored 0%)
  adding: help/aliases.rds (188 bytes security) (stored 0%)
  adding: help/AnIndex (188 bytes security) (deflated 83%)
  adding: help/paths.rds (188 bytes security) (stored 0%)
  adding: help/Rgraphviz.rdb (188 bytes security) (deflated 1%)
  adding: help/Rgraphviz.rdx (188 bytes security) (stored 0%)
  adding: html/ (256 bytes security) (stored 0%)
  adding: html/00Index.html (188 bytes security) (deflated 91%)
  adding: html/R.css (188 bytes security) (deflated 70%)
  adding: INDEX (188 bytes security) (deflated 69%)
  adding: libs/ (256 bytes security) (stored 0%)
  adding: libs/i386/ (256 bytes security) (stored 0%)
  adding: libs/i386/Rgraphviz.dll (188 bytes security) (deflated 52%)
  adding: libs/x64/ (256 bytes security) (stored 0%)
  adding: libs/x64/Rgraphviz.dll (188 bytes security) (deflated 51%)
  adding: MD5 (188 bytes security) (deflated 47%)
  adding: Meta/ (256 bytes security) (stored 0%)
  adding: Meta/hsearch.rds (188 bytes security) (stored 0%)
  adding: Meta/links.rds (188 bytes security) (stored 0%)
  adding: Meta/nsInfo.rds (188 bytes security) (stored 0%)
  adding: Meta/package.rds (188 bytes security) (stored 0%)
  adding: Meta/Rd.rds (188 bytes security) (stored 0%)
  adding: Meta/vignette.rds (188 bytes security) (stored 0%)
  adding: NAMESPACE (188 bytes security) (deflated 74%)
  adding: NEWS.Rd (188 bytes security) (deflated 53%)
  adding: prepare/ (256 bytes security) (stored 0%)
  adding: prepare/build_graphviz_mingw.sh (188 bytes security) (deflated 66%)
  adding: prepare/patches_2.28.0/ (256 bytes security) (stored 0%)
  adding: prepare/patches_2.28.0/aclocal.m4-patch (188 bytes security) (deflated 61%)
  adding: prepare/patches_2.28.0/graphviz-2.28.0-bugs.patch (188 bytes security) (deflated 66%)
  adding: prepare/patches_2.28.0/graphviz-2.28.0-configure.patch (188 bytes security) (deflated 46%)
  adding: prepare/patches_2.28.0/graphviz-2.28.0-slim.patch (188 bytes security) (deflated 71%)
  adding: prepare/patches_2.28.0/libltdl-aclocal.m4-patch (188 bytes security) (deflated 60%)
  adding: prepare/README (188 bytes security) (deflated 57%)
  adding: prepare/slim_graphviz_2.28.0.sh (188 bytes security) (deflated 57%)
  adding: prepare/THANKS (188 bytes security) (deflated 39%)
  adding: R/ (256 bytes security) (stored 0%)
  adding: R/Rgraphviz (188 bytes security) (deflated 41%)
  adding: R/Rgraphviz.rdb (188 bytes security) (deflated 35%)
  adding: R/Rgraphviz.rdx (188 bytes security) (deflated 3%)
  adding: unitTests/ (256 bytes security) (stored 0%)
  adding: unitTests/test_layout.R (188 bytes security) (deflated 59%)
  adding: unitTests/test_toFile.R (188 bytes security) (deflated 77%)
  adding: usecases/ (256 bytes security) (stored 0%)
  adding: usecases/droso_ppi.html (188 bytes security) (deflated 89%)
  adding: usecases/droso_ppi.png (188 bytes security) (deflated 3%)
  adding: usecases/droso_ppi.R (188 bytes security) (deflated 52%)
  adding: usecases/droso_ppi.rda (188 bytes security) (stored 0%)
  adding: usecases/droso_ppi_prepare.R (188 bytes security) (deflated 53%)