ReportingTools 2.2.0 Jason A. Hackney , Gabriel Becker
 | Snapshot Date: 2014-04-04 16:20:29 -0700 (Fri, 04 Apr 2014) |  | URL: https://hedgehog.fhcrc.org/bioconductor/branches/RELEASE_2_13/madman/Rpacks/ReportingTools |  | Last Changed Rev: 81642 / Revision: 88450 |  | Last Changed Date: 2013-10-14 14:29:21 -0700 (Mon, 14 Oct 2013) |  
  | zin1  | Linux (Ubuntu 12.04.4 LTS) / x86_64  |  OK  |  OK  |  | 
| moscato1  | Windows Server 2008 R2 Enterprise SP1 (64-bit) / x64  |  OK  |  OK  | [ OK ] | 
| perceval  | Mac OS X Snow Leopard (10.6.8) / x86_64  |  OK  |  OK  |  OK  | 
Scanning files 
  adding: CITATION (188 bytes security) (deflated 62%)
  adding: data/ (256 bytes security) (stored 0%)
  adding: data/mockRnaSeqData.RData (188 bytes security) (deflated 0%)
  adding: DESCRIPTION (188 bytes security) (deflated 43%)
  adding: doc/ (256 bytes security) (stored 0%)
  adding: doc/basicReportingTools.pdf (188 bytes security) (deflated 9%)
  adding: doc/basicReportingTools.R (188 bytes security) (deflated 76%)
  adding: doc/basicReportingTools.Rnw (188 bytes security) (deflated 66%)
  adding: doc/csslib/ (256 bytes security) (stored 0%)
  adding: doc/csslib/bootstrap.css (188 bytes security) (deflated 86%)
  adding: doc/csslib/images/ (256 bytes security) (stored 0%)
  adding: doc/csslib/reprise.table.bootstrap.css (188 bytes security) (deflated 72%)
  adding: doc/figuresknitrReport/ (256 bytes security) (stored 0%)
  adding: doc/figuresknitrReport/knitrReport-59999.pdf (188 bytes security) (deflated 9%)
  adding: doc/figuresknitrReport/knitrReport-59999.png (188 bytes security) (deflated 31%)
  adding: doc/figuresknitrReport/knitrReport-72776.pdf (188 bytes security) (deflated 7%)
  adding: doc/figuresknitrReport/knitrReport-72776.png (188 bytes security) (deflated 33%)
  adding: doc/index.html (188 bytes security) (deflated 79%)
  adding: doc/jslib/ (256 bytes security) (stored 0%)
  adding: doc/jslib/bootstrap.js (188 bytes security) (deflated 82%)
  adding: doc/jslib/jquery-1.8.0.min.js (188 bytes security) (deflated 64%)
  adding: doc/jslib/jquery.dataTables-1.9.3.js (188 bytes security) (deflated 77%)
  adding: doc/jslib/jquery.dataTables.columnFilter.js (188 bytes security) (deflated 78%)
  adding: doc/jslib/jquery.dataTables.plugins.js (188 bytes security) (deflated 63%)
  adding: doc/jslib/jquery.dataTables.reprise.js (188 bytes security) (deflated 63%)
  adding: doc/knitr.html (188 bytes security) (deflated 63%)
  adding: doc/knitr.R (188 bytes security) (deflated 51%)
  adding: doc/knitr.Rmd (188 bytes security) (deflated 57%)
  adding: doc/microarrayAnalysis.pdf (188 bytes security) (deflated 9%)
  adding: doc/microarrayAnalysis.R (188 bytes security) (deflated 78%)
  adding: doc/microarrayAnalysis.Rnw (188 bytes security) (deflated 70%)
  adding: doc/rnaseqAnalysis.pdf (188 bytes security) (deflated 9%)
  adding: doc/rnaseqAnalysis.R (188 bytes security) (deflated 77%)
  adding: doc/rnaseqAnalysis.Rnw (188 bytes security) (deflated 69%)
  adding: doc/shiny.pdf (188 bytes security) (deflated 8%)
  adding: doc/shiny.R (188 bytes security) (deflated 71%)
  adding: doc/shiny.Rnw (188 bytes security) (deflated 60%)
  adding: examples/ (256 bytes security) (stored 0%)
  adding: examples/clobberstart.R (188 bytes security) (deflated 60%)
  adding: examples/csslib/ (256 bytes security) (stored 0%)
  adding: examples/csslib/bootstrap.css (188 bytes security) (deflated 86%)
  adding: examples/csslib/images/ (256 bytes security) (stored 0%)
  adding: examples/csslib/reprise.table.bootstrap.css (188 bytes security) (deflated 72%)
  adding: examples/customizeVignette.Rmd (188 bytes security) (deflated 59%)
  adding: examples/doRMDtest.R (188 bytes security) (deflated 54%)
  adding: examples/extensibility.Rmd (188 bytes security) (deflated 55%)
  adding: examples/extensibilityTest.R (188 bytes security) (deflated 50%)
  adding: examples/figuresreport2/ (256 bytes security) (stored 0%)
  adding: examples/figuresreport2/report2-44441.pdf (188 bytes security) (deflated 10%)
  adding: examples/figuresreport2/report2-44441.png (188 bytes security) (deflated 40%)
  adding: examples/figuresreport2/report2-81444.pdf (188 bytes security) (deflated 10%)
  adding: examples/figuresreport2/report2-81444.png (188 bytes security) (deflated 38%)
  adding: examples/indexTest.R (188 bytes security) (deflated 46%)
  adding: examples/inlineTest.R (188 bytes security) (deflated 46%)
  adding: examples/jslib/ (256 bytes security) (stored 0%)
  adding: examples/jslib/bootstrap.js (188 bytes security) (deflated 82%)
  adding: examples/jslib/jquery-1.8.0.min.js (188 bytes security) (deflated 64%)
  adding: examples/jslib/jquery.dataTables-1.9.3.js (188 bytes security) (deflated 77%)
  adding: examples/jslib/jquery.dataTables.columnFilter.js (188 bytes security) (deflated 78%)
  adding: examples/jslib/jquery.dataTables.plugins.js (188 bytes security) (deflated 63%)
  adding: examples/jslib/jquery.dataTables.reprise.js (188 bytes security) (deflated 63%)
  adding: examples/knitrformattest.Rmd (188 bytes security) (deflated 44%)
  adding: examples/LinkTest.R (188 bytes security) (deflated 58%)
  adding: examples/marraylmtest.Rmd (188 bytes security) (deflated 42%)
  adding: examples/pfamtest.Rmd (188 bytes security) (deflated 60%)
  adding: examples/posInsertion.R (188 bytes security) (deflated 44%)
  adding: examples/publishFlowchart.dia (188 bytes security) (stored 0%)
  adding: examples/publishFlowchart.svg (188 bytes security) (deflated 83%)
  adding: examples/shinyExample/ (256 bytes security) (stored 0%)
  adding: examples/shinyExample/ReadMe.R (188 bytes security) (deflated 37%)
  adding: examples/shinyExample/server.R (188 bytes security) (deflated 58%)
  adding: examples/shinyExample/shinystuff.Rproj (188 bytes security) (deflated 29%)
  adding: examples/shinyExample/ui.R (188 bytes security) (deflated 59%)
  adding: examples/testDGEExact.R (188 bytes security) (deflated 46%)
  adding: examples/testDOM.R (188 bytes security) (deflated 31%)
  adding: examples/testMicro.R (188 bytes security) (deflated 60%)
  adding: examples/testReadReport.R (188 bytes security) (deflated 19%)
  adding: examples/testRmd.Rmd (188 bytes security) (deflated 47%)
  adding: extdata/ (256 bytes security) (stored 0%)
  adding: extdata/csslib/ (256 bytes security) (stored 0%)
  adding: extdata/csslib/bootstrap.css (188 bytes security) (deflated 86%)
  adding: extdata/csslib/bootstrap.spruce.css (188 bytes security) (deflated 84%)
  adding: extdata/csslib/images/ (256 bytes security) (stored 0%)
  adding: extdata/csslib/images/glyphicons-halflings-white.png (188 bytes security) (deflated 3%)
  adding: extdata/csslib/images/glyphicons-halflings.png (188 bytes security) (deflated 2%)
  adding: extdata/csslib/images/sort_asc.png (188 bytes security) (deflated 2%)
  adding: extdata/csslib/images/sort_asc_disabled.png (188 bytes security) (deflated 32%)
  adding: extdata/csslib/images/sort_both.png (188 bytes security) (deflated 30%)
  adding: extdata/csslib/images/sort_desc.png (188 bytes security) (deflated 1%)
  adding: extdata/csslib/images/sort_desc_disabled.png (188 bytes security) (deflated 32%)
  adding: extdata/csslib/reprise.table.bootstrap.css (188 bytes security) (deflated 72%)
  adding: extdata/csslib/reprise.table.css (188 bytes security) (deflated 67%)
  adding: extdata/jslib/ (256 bytes security) (stored 0%)
  adding: extdata/jslib/bootstrap.js (188 bytes security) (deflated 82%)
  adding: extdata/jslib/jquery-1.8.0.min.js (188 bytes security) (deflated 64%)
  adding: extdata/jslib/jquery.dataTables-1.9.3.js (188 bytes security) (deflated 77%)
  adding: extdata/jslib/jquery.dataTables.columnFilter.js (188 bytes security) (deflated 78%)
  adding: extdata/jslib/jquery.dataTables.plugins.js (188 bytes security) (deflated 63%)
  adding: extdata/jslib/jquery.dataTables.reprise.js (188 bytes security) (deflated 63%)
  adding: help/ (256 bytes security) (stored 0%)
  adding: help/aliases.rds (188 bytes security) (stored 0%)
  adding: help/AnIndex (188 bytes security) (deflated 85%)
  adding: help/paths.rds (188 bytes security) (stored 0%)
  adding: help/ReportingTools.rdb (188 bytes security) (deflated 1%)
  adding: help/ReportingTools.rdx (188 bytes security) (stored 0%)
  adding: html/ (256 bytes security) (stored 0%)
  adding: html/00Index.html (188 bytes security) (deflated 85%)
  adding: html/R.css (188 bytes security) (deflated 70%)
  adding: INDEX (188 bytes security) (deflated 65%)
  adding: MD5 (188 bytes security) (deflated 55%)
  adding: Meta/ (256 bytes security) (stored 0%)
  adding: Meta/data.rds (188 bytes security) (stored 0%)
  adding: Meta/hsearch.rds (188 bytes security) (stored 0%)
  adding: Meta/links.rds (188 bytes security) (stored 0%)
  adding: Meta/nsInfo.rds (188 bytes security) (stored 0%)
  adding: Meta/package.rds (188 bytes security) (stored 0%)
  adding: Meta/Rd.rds (188 bytes security) (stored 0%)
  adding: Meta/vignette.rds (188 bytes security) (stored 0%)
  adding: NAMESPACE (188 bytes security) (deflated 57%)
  adding: NEWS (188 bytes security) (deflated 52%)
  adding: R/ (256 bytes security) (stored 0%)
  adding: R/ReportingTools (188 bytes security) (deflated 41%)
  adding: R/ReportingTools.rdb (188 bytes security) (deflated 18%)
  adding: R/ReportingTools.rdx (188 bytes security) (stored 0%)
  adding: unitTests/ (256 bytes security) (stored 0%)
  adding: unitTests/test_Annotation.R (188 bytes security) (deflated 58%)
  adding: unitTests/test_DESeqDataSet.R (188 bytes security) (deflated 68%)
  adding: unitTests/test_edgeR.R (188 bytes security) (deflated 76%)
  adding: unitTests/test_GeneSets.R (188 bytes security) (deflated 68%)
  adding: unitTests/test_handlerConst.R (188 bytes security) (deflated 67%)
  adding: unitTests/test_knitr.R (188 bytes security) (deflated 33%)
  adding: unitTests/test_Link.R (188 bytes security) (deflated 49%)
  adding: unitTests/test_MArrayLM.R (188 bytes security) (deflated 74%)
  adding: unitTests/test_reportmanip.R (188 bytes security) (deflated 64%)
  adding: unitTests/test_testObjectCreation.R (188 bytes security) (deflated 70%)