Rbowtie 1.2.0 Michael Stadler
 | Snapshot Date: 2014-04-04 16:20:29 -0700 (Fri, 04 Apr 2014) |  | URL: https://hedgehog.fhcrc.org/bioconductor/branches/RELEASE_2_13/madman/Rpacks/Rbowtie |  | Last Changed Rev: 81642 / Revision: 88450 |  | Last Changed Date: 2013-10-14 14:29:21 -0700 (Mon, 14 Oct 2013) |  
  | zin1  | Linux (Ubuntu 12.04.4 LTS) / x86_64  |  OK  |  OK  |  | 
| moscato1  | Windows Server 2008 R2 Enterprise SP1 (64-bit) / x64  |  OK  |  OK  | [ OK ] | 
| perceval  | Mac OS X Snow Leopard (10.6.8) / x86_64  |  OK  |  OK  |  OK  | 
  adding: amalgamateSAM.exe (188 bytes security) (deflated 72%)
  adding: bowtie-build.exe (188 bytes security) (deflated 75%)
  adding: bowtie.exe (188 bytes security) (deflated 74%)
  adding: CITATION (188 bytes security) (deflated 58%)
  adding: DESCRIPTION (188 bytes security) (deflated 36%)
  adding: doc/ (256 bytes security) (stored 0%)
  adding: doc/index.html (188 bytes security) (deflated 57%)
  adding: doc/Rbowtie-Overview.pdf (188 bytes security) (deflated 9%)
  adding: doc/Rbowtie-Overview.R (188 bytes security) (deflated 76%)
  adding: doc/Rbowtie-Overview.Rnw (188 bytes security) (deflated 63%)
  adding: fuseReorder.exe (188 bytes security) (deflated 72%)
  adding: getSpliceMapUnmapped.exe (188 bytes security) (deflated 73%)
  adding: help/ (256 bytes security) (stored 0%)
  adding: help/aliases.rds (188 bytes security) (stored 0%)
  adding: help/AnIndex (188 bytes security) (deflated 62%)
  adding: help/paths.rds (188 bytes security) (stored 0%)
  adding: help/Rbowtie.rdb (188 bytes security) (deflated 1%)
  adding: help/Rbowtie.rdx (188 bytes security) (stored 0%)
  adding: html/ (256 bytes security) (stored 0%)
  adding: html/00Index.html (188 bytes security) (deflated 66%)
  adding: html/R.css (188 bytes security) (deflated 70%)
  adding: INDEX (188 bytes security) (deflated 44%)
  adding: LICENSE (188 bytes security) (deflated 46%)
  adding: MD5 (188 bytes security) (deflated 43%)
  adding: Meta/ (256 bytes security) (stored 0%)
  adding: Meta/hsearch.rds (188 bytes security) (stored 0%)
  adding: Meta/links.rds (188 bytes security) (stored 0%)
  adding: Meta/nsInfo.rds (188 bytes security) (stored 0%)
  adding: Meta/package.rds (188 bytes security) (stored 0%)
  adding: Meta/Rd.rds (188 bytes security) (stored 0%)
  adding: Meta/vignette.rds (188 bytes security) (stored 0%)
  adding: NAMESPACE (188 bytes security) (stored 0%)
  adding: NEWS (188 bytes security) (deflated 42%)
  adding: R/ (256 bytes security) (stored 0%)
  adding: R/Rbowtie (188 bytes security) (deflated 41%)
  adding: R/Rbowtie.rdb (188 bytes security) (deflated 3%)
  adding: R/Rbowtie.rdx (188 bytes security) (stored 0%)
  adding: runSpliceMap_QuasR.exe (188 bytes security) (deflated 72%)
  adding: samples/ (256 bytes security) (stored 0%)
  adding: samples/reads/ (256 bytes security) (stored 0%)
  adding: samples/reads/reads.fastq (188 bytes security) (deflated 71%)
  adding: samples/refs/ (256 bytes security) (stored 0%)
  adding: samples/refs/chr1.fa (188 bytes security) (deflated 70%)
  adding: samples/refs/chr2.fa (188 bytes security) (deflated 70%)
  adding: samples/refs/chr3.fa (188 bytes security) (deflated 70%)
  adding: sortsam.exe (188 bytes security) (deflated 73%)
  adding: SpliceMap.exe (188 bytes security) (deflated 72%)