RGalaxy 1.6.0 Bioconductor Package Maintainer
 | Snapshot Date: 2014-04-04 16:20:29 -0700 (Fri, 04 Apr 2014) |  | URL: https://hedgehog.fhcrc.org/bioconductor/branches/RELEASE_2_13/madman/Rpacks/RGalaxy |  | Last Changed Rev: 81642 / Revision: 88450 |  | Last Changed Date: 2013-10-14 14:29:21 -0700 (Mon, 14 Oct 2013) |  
  | zin1  | Linux (Ubuntu 12.04.4 LTS) / x86_64  |  OK  |  OK  |  | 
| moscato1  | Windows Server 2008 R2 Enterprise SP1 (64-bit) / x64  |  OK  |  OK  | [ OK ] | 
| perceval  | Mac OS X Snow Leopard (10.6.8) / x86_64  |  OK  |  OK  |  OK  | 
  adding: DESCRIPTION (188 bytes security) (deflated 38%)
  adding: doc/ (256 bytes security) (stored 0%)
  adding: doc/index.html (188 bytes security) (deflated 58%)
  adding: doc/RGalaxy-vignette.html (188 bytes security) (deflated 44%)
  adding: doc/RGalaxy-vignette.R (188 bytes security) (deflated 68%)
  adding: doc/RGalaxy-vignette.Rmd (188 bytes security) (deflated 60%)
  adding: extdata/ (256 bytes security) (stored 0%)
  adding: extdata/a.tsv (188 bytes security) (stored 0%)
  adding: extdata/b.tsv (188 bytes security) (stored 0%)
  adding: extdata/foo.Rd (188 bytes security) (deflated 44%)
  adding: extdata/functionToGalaxify2.R (188 bytes security) (deflated 60%)
  adding: extdata/functionToGalaxify2.Rd (188 bytes security) (deflated 60%)
  adding: functionalTests/ (256 bytes security) (stored 0%)
  adding: functionalTests/addTwoNumbersWithTest/ (256 bytes security) (stored 0%)
  adding: functionalTests/addTwoNumbersWithTest/sum (188 bytes security) (stored 0%)
  adding: functionalTests/functionToGalaxify/ (256 bytes security) (stored 0%)
  adding: functionalTests/functionToGalaxify/inputfile1 (188 bytes security) (stored 0%)
  adding: functionalTests/functionToGalaxify/inputfile2 (188 bytes security) (stored 0%)
  adding: functionalTests/functionToGalaxify/outputfile1 (188 bytes security) (deflated 9%)
  adding: functionalTests/functionToGalaxify/outputfile2 (188 bytes security) (deflated 20%)
  adding: functionalTests/probeLookup/ (256 bytes security) (stored 0%)
  adding: functionalTests/probeLookup/outputfile (188 bytes security) (deflated 23%)
  adding: galaxy/ (256 bytes security) (stored 0%)
  adding: galaxy/datatypes_conf.xml (188 bytes security) (deflated 86%)
  adding: galaxy/tool_conf.xml (188 bytes security) (deflated 37%)
  adding: help/ (256 bytes security) (stored 0%)
  adding: help/aliases.rds (188 bytes security) (stored 0%)
  adding: help/AnIndex (188 bytes security) (deflated 75%)
  adding: help/paths.rds (188 bytes security) (stored 0%)
  adding: help/RGalaxy.rdb (188 bytes security) (deflated 1%)
  adding: help/RGalaxy.rdx (188 bytes security) (stored 0%)
  adding: html/ (256 bytes security) (stored 0%)
  adding: html/00Index.html (188 bytes security) (deflated 79%)
  adding: html/R.css (188 bytes security) (deflated 70%)
  adding: INDEX (188 bytes security) (deflated 65%)
  adding: MD5 (188 bytes security) (deflated 48%)
  adding: Meta/ (256 bytes security) (stored 0%)
  adding: Meta/hsearch.rds (188 bytes security) (stored 0%)
  adding: Meta/links.rds (188 bytes security) (stored 0%)
  adding: Meta/nsInfo.rds (188 bytes security) (stored 0%)
  adding: Meta/package.rds (188 bytes security) (stored 0%)
  adding: Meta/Rd.rds (188 bytes security) (stored 0%)
  adding: Meta/vignette.rds (188 bytes security) (stored 0%)
  adding: NAMESPACE (188 bytes security) (deflated 59%)
  adding: R/ (256 bytes security) (stored 0%)
  adding: R/RGalaxy (188 bytes security) (deflated 41%)
  adding: R/RGalaxy.rdb (188 bytes security) (deflated 4%)
  adding: R/RGalaxy.rdx (188 bytes security) (stored 0%)
  adding: Rserve/ (256 bytes security) (stored 0%)
  adding: Rserve/Rserv.conf (188 bytes security) (stored 0%)
  adding: samplePkg/ (256 bytes security) (stored 0%)
  adding: samplePkg/DESCRIPTION (188 bytes security) (deflated 30%)
  adding: samplePkg/man/ (256 bytes security) (stored 0%)
  adding: samplePkg/man/testCheckboxes.Rd (188 bytes security) (deflated 49%)
  adding: samplePkg/man/testMissingParams.Rd (188 bytes security) (deflated 52%)
  adding: samplePkg/man/testRequiredOption.Rd (188 bytes security) (deflated 46%)
  adding: samplePkg/NAMESPACE (188 bytes security) (stored 0%)
  adding: samplePkg/R/ (256 bytes security) (stored 0%)
  adding: samplePkg/R/functions.R (188 bytes security) (deflated 67%)
  adding: template/ (256 bytes security) (stored 0%)
  adding: template/template.R (188 bytes security) (deflated 44%)
  adding: unitTests/ (256 bytes security) (stored 0%)
  adding: unitTests/test_galaxy.R (188 bytes security) (deflated 80%)