MSnbase 1.10.4 Laurent Gatto
 | Snapshot Date: 2014-04-04 16:20:29 -0700 (Fri, 04 Apr 2014) |  | URL: https://hedgehog.fhcrc.org/bioconductor/branches/RELEASE_2_13/madman/Rpacks/MSnbase |  | Last Changed Rev: 87955 / Revision: 88450 |  | Last Changed Date: 2014-03-26 11:52:12 -0700 (Wed, 26 Mar 2014) |  
  | zin1  | Linux (Ubuntu 12.04.4 LTS) / x86_64  |  OK  |  OK  |  | 
| moscato1  | Windows Server 2008 R2 Enterprise SP1 (64-bit) / x64  |  OK  |  OK  |  OK  | 
| perceval  | Mac OS X Snow Leopard (10.6.8) / x86_64  |  OK  | [ OK ] |  OK  | 
* using log directory ‘/Users/biocbuild/bbs-2.13-bioc/meat/MSnbase.Rcheck’
* using R version 3.0.3 (2014-03-06)
* using platform: x86_64-apple-darwin10.8.0 (64-bit)
* using session charset: UTF-8
* using option ‘--no-vignettes’
* checking for file ‘MSnbase/DESCRIPTION’ ... OK
* this is package ‘MSnbase’ version ‘1.10.4’
* checking package namespace information ... OK
* checking package dependencies ... NOTE
Package which this enhances but not available for checking: ‘doMC’
* checking if this is a source package ... OK
* checking if there is a namespace ... OK
* checking for hidden files and directories ... OK
* checking for portable file names ... OK
* checking for sufficient/correct file permissions ... OK
* checking whether package ‘MSnbase’ can be installed ... [21s/23s] OK
* checking installed package size ... OK
* checking package directory ... OK
* checking ‘build’ directory ... OK
* checking DESCRIPTION meta-information ... OK
* checking top-level files ... OK
* checking for left-over files ... OK
* checking index information ... OK
* checking package subdirectories ... OK
* checking R files for non-ASCII characters ... OK
* checking R files for syntax errors ... OK
* checking whether the package can be loaded ... OK
* checking whether the package can be loaded with stated dependencies ... OK
* checking whether the package can be unloaded cleanly ... OK
* checking whether the namespace can be loaded with stated dependencies ... OK
* checking whether the namespace can be unloaded cleanly ... OK
* checking dependencies in R code ... NOTE
Unexported object imported by a ‘:::’ call: ‘Biobase:::.showAnnotatedDataFrame’
  See the note in ?`:::` about the use of this operator.
See the information on DESCRIPTION files in the chapter ‘Creating R
packages’ of the ‘Writing R Extensions’ manual.
* checking S3 generic/method consistency ... OK
* checking replacement functions ... OK
* checking foreign function calls ... OK
* checking R code for possible problems ... OK
* checking Rd files ... OK
* checking Rd metadata ... OK
* checking Rd cross-references ... OK
* checking for missing documentation entries ... OK
* checking for code/documentation mismatches ... OK
* checking Rd \usage sections ... OK
* checking Rd contents ... OK
* checking for unstated dependencies in examples ... OK
* checking contents of ‘data’ directory ... OK
* checking data for non-ASCII characters ... OK
* checking data for ASCII and uncompressed saves ... OK
* checking sizes of PDF files under ‘inst/doc’ ... OK
* checking installed files from ‘inst/doc’ ... OK
* checking for old-style vignette sources ... NOTE
Vignette sources only in ‘inst/doc’:
  ‘MSnbase-demo.Rnw’, ‘MSnbase-development.Rnw’, ‘MSnbase-io.Rnw’
A ‘vignettes’ directory will be required as from R 3.1.0
* checking examples ... [85s/95s] OK
Examples with CPU or elapsed time > 5s
                       user system elapsed
writeMzTabData        9.455  0.138  18.168
readMgfData           8.846  0.115   9.080
plotMzDelta-methods   5.571  0.131   5.783
nQuants               5.408  0.032   5.496
plotNA-methods        5.100  0.061   5.295
exprsToRatios-methods 5.007  0.049   5.119
normalise-methods     5.024  0.031   5.142
impute-methods        4.840  0.032   5.078
purityCorrect-methods 4.780  0.065   5.019
* checking for unstated dependencies in tests ... OK
* checking tests ...
  Running ‘test-all.R’ [44s/45s]
 [45s/46s] OK
* checking for unstated dependencies in vignettes ... NOTE
‘library’ or ‘require’ call not declared from: ‘multicore’
* checking package vignettes in ‘inst/doc’ ... OK
* checking running R code from vignettes ... SKIPPED
* checking re-building of vignette outputs ... SKIPPED
* checking PDF version of manual ... OK
NOTE: There were 4 notes.
See
  ‘/Users/biocbuild/bbs-2.13-bioc/meat/MSnbase.Rcheck/00check.log’
for details.
 
* installing *source* package ‘MSnbase’ ...
** R
** data
*** moving datasets to lazyload DB
** inst
** preparing package for lazy loading
Warning in fun(libname, pkgname) :
  mzR has been built against a different Rcpp version (0.11.0)
than is installed on your system (0.11.1). This might lead to errors
when loading mzR. If you encounter such issues, please send
a report, including the output of sessionInfo() to the Bioc
mailing list -- http://www.bioconductor.org/help/mailing-list.
Creating a generic function for ‘scale’ from package ‘base’ in package ‘MSnbase’
** help
*** installing help indices
** building package indices
** installing vignettes
** testing if installed package can be loaded
Warning in fun(libname, pkgname) :
  mzR has been built against a different Rcpp version (0.11.0)
than is installed on your system (0.11.1). This might lead to errors
when loading mzR. If you encounter such issues, please send
a report, including the output of sessionInfo() to the Bioc
mailing list -- http://www.bioconductor.org/help/mailing-list.
* DONE (MSnbase)