IRanges 1.20.7 Bioconductor Package Maintainer
 | Snapshot Date: 2014-04-04 16:20:29 -0700 (Fri, 04 Apr 2014) |  | URL: https://hedgehog.fhcrc.org/bioconductor/branches/RELEASE_2_13/madman/Rpacks/IRanges |  | Last Changed Rev: 87131 / Revision: 88450 |  | Last Changed Date: 2014-03-05 13:40:53 -0800 (Wed, 05 Mar 2014) |  
  | zin1  | Linux (Ubuntu 12.04.4 LTS) / x86_64  |  OK  |  WARNINGS  |  | 
| moscato1  | Windows Server 2008 R2 Enterprise SP1 (64-bit) / x64  |  OK  |  WARNINGS  |  OK  | 
| perceval  | Mac OS X Snow Leopard (10.6.8) / x86_64  | [ OK ] |  WARNINGS  |  OK  | 
* checking for file ‘IRanges/DESCRIPTION’ ... OK
* preparing ‘IRanges’:
* checking DESCRIPTION meta-information ... OK
* cleaning src
* installing the package to build vignettes
* creating vignettes ... OK
* cleaning src
* checking for LF line-endings in source and make files
* checking for empty or unneeded directories
* building ‘IRanges_1.20.7.tar.gz’