GeneAnswers 2.4.0 Gang Feng  , Pan Du  and Tian Xia
 | Snapshot Date: 2014-04-04 16:20:29 -0700 (Fri, 04 Apr 2014) |  | URL: https://hedgehog.fhcrc.org/bioconductor/branches/RELEASE_2_13/madman/Rpacks/GeneAnswers |  | Last Changed Rev: 81642 / Revision: 88450 |  | Last Changed Date: 2013-10-14 14:29:21 -0700 (Mon, 14 Oct 2013) |  
  | zin1  | Linux (Ubuntu 12.04.4 LTS) / x86_64  |  OK  |  OK  |  | 
| moscato1  | Windows Server 2008 R2 Enterprise SP1 (64-bit) / x64  |  OK  |  OK  |  OK  | 
| perceval  | Mac OS X Snow Leopard (10.6.8) / x86_64  |  OK  | [ OK ] |  OK  | 
* using log directory ‘/Users/biocbuild/bbs-2.13-bioc/meat/GeneAnswers.Rcheck’
* using R version 3.0.3 (2014-03-06)
* using platform: x86_64-apple-darwin10.8.0 (64-bit)
* using session charset: UTF-8
* using option ‘--no-vignettes’
* checking for file ‘GeneAnswers/DESCRIPTION’ ... OK
* checking extension type ... Package
* this is package ‘GeneAnswers’ version ‘2.4.0’
* checking package namespace information ... OK
* checking package dependencies ... OK
* checking if this is a source package ... OK
* checking if there is a namespace ... OK
* checking for hidden files and directories ... OK
* checking for portable file names ... OK
* checking for sufficient/correct file permissions ... OK
* checking whether package ‘GeneAnswers’ can be installed ... [18s/19s] OK
* checking installed package size ... NOTE
  installed size is 35.2Mb
  sub-directories of 1Mb or more:
    data       1.0Mb
    doc        1.4Mb
    External  32.4Mb
* checking package directory ... OK
* checking ‘build’ directory ... OK
* checking DESCRIPTION meta-information ... NOTE
Package listed in more than one of Depends, Imports, Suggests, Enhances:
  ‘annotate’
A package should be listed in only one of these fields.
* checking top-level files ... OK
* checking for left-over files ... OK
* checking index information ... OK
* checking package subdirectories ... OK
* checking R files for non-ASCII characters ... OK
* checking R files for syntax errors ... OK
* checking whether the package can be loaded ... OK
* checking whether the package can be loaded with stated dependencies ... OK
* checking whether the package can be unloaded cleanly ... OK
* checking whether the namespace can be loaded with stated dependencies ... OK
* checking whether the namespace can be unloaded cleanly ... OK
* checking dependencies in R code ... NOTE
‘library’ or ‘require’ calls to packages already attached by Depends:
  ‘annotate’ ‘Biobase’ ‘Heatplus’ ‘igraph’ ‘MASS’ ‘RColorBrewer’ ‘XML’
  Please remove these calls from your code.
Packages in Depends field not imported from:
  ‘Biobase’ ‘Heatplus’ ‘igraph’ ‘MASS’ ‘RColorBrewer’ ‘RCurl’ ‘RSQLite’
  ‘XML’
  These packages need to be imported from (in the NAMESPACE file)
  for when this namespace is loaded but not attached.
See the information on DESCRIPTION files in the chapter ‘Creating R
packages’ of the ‘Writing R Extensions’ manual.
* checking S3 generic/method consistency ... OK
* checking replacement functions ... OK
* checking foreign function calls ... OK
* checking R code for possible problems ... NOTE
File ‘GeneAnswers/R/zzz.R’:
  .onLoad calls:
    require(Biobase)
Package startup functions should not change the search path.
See section ‘Good practice’ in '?.onAttach'.
* checking Rd files ... OK
* checking Rd metadata ... OK
* checking Rd cross-references ... OK
* checking for missing documentation entries ... OK
* checking for code/documentation mismatches ... OK
* checking Rd \usage sections ... OK
* checking Rd contents ... OK
* checking for unstated dependencies in examples ... OK
* checking contents of ‘data’ directory ... OK
* checking data for non-ASCII characters ... OK
* checking data for ASCII and uncompressed saves ... OK
* checking sizes of PDF files under ‘inst/doc’ ... OK
* checking installed files from ‘inst/doc’ ... OK
* checking for old-style vignette sources ... NOTE
Vignette sources only in ‘inst/doc’:
  ‘geneAnswers.Rnw’
A ‘vignettes’ directory will be required as from R 3.1.0
* checking examples ... [11m/12m] OK
Examples with CPU or elapsed time > 5s
                             user system elapsed
geneAnswersReadable        88.056  5.853  95.634
GeneAnswers-class          54.485  4.152  61.282
getMultiLayerGraphIDs      43.688  3.020  47.236
geneAnswersHeatmap         40.441  2.692  43.942
geneAnswersHomoMapping     39.848  2.870  43.521
geneAnswersSort            39.081  2.341  42.318
GeneAnswers-package        37.832  3.191  43.993
getConnectedGraph          37.758  2.739  41.475
buildNet                   37.616  2.792  42.034
geneAnswersBuilder         37.164  2.798  41.872
geneAnswersConcepts        37.365  2.550  40.648
geneAnswersConceptRelation 36.808  2.584  40.041
geneAnswersChartPlots      35.976  2.600  39.664
geneAnswersConceptNet      33.404  2.639  36.986
getGOList                  21.784  2.273  24.660
* checking for unstated dependencies in vignettes ... OK
* checking package vignettes in ‘inst/doc’ ... OK
* checking running R code from vignettes ... SKIPPED
* checking re-building of vignette outputs ... SKIPPED
* checking PDF version of manual ... OK
NOTE: There were 5 notes.
See
  ‘/Users/biocbuild/bbs-2.13-bioc/meat/GeneAnswers.Rcheck/00check.log’
for details.