EasyqpcR 1.5.0 Le Pape Sylvain
 | Snapshot Date: 2014-04-04 16:20:29 -0700 (Fri, 04 Apr 2014) |  | URL: https://hedgehog.fhcrc.org/bioconductor/branches/RELEASE_2_13/madman/Rpacks/EasyqpcR |  | Last Changed Rev: 83595 / Revision: 88450 |  | Last Changed Date: 2013-11-24 13:50:24 -0800 (Sun, 24 Nov 2013) |  
  | zin1  | Linux (Ubuntu 12.04.4 LTS) / x86_64  |  OK  |  OK  |  | 
| moscato1  | Windows Server 2008 R2 Enterprise SP1 (64-bit) / x64  |  OK  |  OK  |  OK  | 
| perceval  | Mac OS X Snow Leopard (10.6.8) / x86_64  |  OK  |  OK  | [ OK ] | 
>>>>>>> 
>>>>>>> INSTALLATION WITH 'R CMD INSTALL --preclean --no-multiarch --library=EasyqpcR.buildbin-libdir EasyqpcR_1.5.0.tar.gz'
>>>>>>> 
* installing *source* package ‘EasyqpcR’ ...
** R
** data
** inst
** preparing package for lazy loading
** help
*** installing help indices
** building package indices
** installing vignettes
** testing if installed package can be loaded
* DONE (EasyqpcR)