CellNOptR 1.8.0 T.Cokelaer
 | Snapshot Date: 2014-04-04 16:20:29 -0700 (Fri, 04 Apr 2014) |  | URL: https://hedgehog.fhcrc.org/bioconductor/branches/RELEASE_2_13/madman/Rpacks/CellNOptR |  | Last Changed Rev: 81642 / Revision: 88450 |  | Last Changed Date: 2013-10-14 14:29:21 -0700 (Mon, 14 Oct 2013) |  
  | zin1  | Linux (Ubuntu 12.04.4 LTS) / x86_64  |  OK  |  OK  |  | 
| moscato1  | Windows Server 2008 R2 Enterprise SP1 (64-bit) / x64  |  OK  |  OK  |  OK  | 
| perceval  | Mac OS X Snow Leopard (10.6.8) / x86_64  |  OK  |  OK  | [ OK ] | 
>>>>>>> 
>>>>>>> INSTALLATION WITH 'R CMD INSTALL --preclean --no-multiarch --library=CellNOptR.buildbin-libdir CellNOptR_1.8.0.tar.gz'
>>>>>>> 
* installing *source* package ‘CellNOptR’ ...
** libs
llvm-gcc-4.2 -arch x86_64 -std=gnu99 -I/Library/Frameworks/R.framework/Resources/include -DNDEBUG  -I/usr/local/include   -I./include  -fPIC  -mtune=core2 -g -O2 -Wall  -c getFit.c -o getFit.o
getFit.c: In function ‘getFit’:
getFit.c:47: warning: unused variable ‘nReacs’
getFit.c:42: warning: unused variable ‘selCounter’
getFit.c:41: warning: unused variable ‘selection’
getFit.c:40: warning: unused variable ‘or_max’
getFit.c:39: warning: unused variable ‘curr_max’
llvm-gcc-4.2 -arch x86_64 -std=gnu99 -I/Library/Frameworks/R.framework/Resources/include -DNDEBUG  -I/usr/local/include   -I./include  -fPIC  -mtune=core2 -g -O2 -Wall  -c simulatorT1.c -o simulatorT1.o
llvm-gcc-4.2 -arch x86_64 -std=gnu99 -I/Library/Frameworks/R.framework/Resources/include -DNDEBUG  -I/usr/local/include   -I./include  -fPIC  -mtune=core2 -g -O2 -Wall  -c simulatorTN.c -o simulatorTN.o
llvm-gcc-4.2 -arch x86_64 -std=gnu99 -dynamiclib -Wl,-headerpad_max_install_names -undefined dynamic_lookup -single_module -multiply_defined suppress -L/usr/local/lib -L/usr/local/lib -o CellNOptR.so getFit.o simulatorT1.o simulatorTN.o -F/Library/Frameworks/R.framework/.. -framework R -Wl,-framework -Wl,CoreFoundation
installing to /Users/biocbuild/bbs-2.13-bioc/meat/CellNOptR.buildbin-libdir/CellNOptR/libs
** R
** data
** inst
** preparing package for lazy loading
** help
*** installing help indices
** building package indices
** installing vignettes
** testing if installed package can be loaded
* DONE (CellNOptR)
>>>>>>> 
>>>>>>> FIXING LINKS FOR CellNOptR.buildbin-libdir/CellNOptR/libs//CellNOptR.so
>>>>>>> 
install_name_tool -change "/usr/local/lib/libgcc_s.1.dylib" "/Library/Frameworks/R.framework/Versions/3.0/Resources/lib/libgcc_s.1.dylib" "CellNOptR.buildbin-libdir/CellNOptR/libs//CellNOptR.so"
install_name_tool -change "/usr/local/lib/libgfortran.2.dylib" "/Library/Frameworks/R.framework/Versions/3.0/Resources/lib/libgfortran.2.dylib" "CellNOptR.buildbin-libdir/CellNOptR/libs//CellNOptR.so"
install_name_tool -change "/usr/local/lib/libreadline.5.2.dylib" "/Library/Frameworks/R.framework/Versions/3.0/Resources/lib/libreadline.5.2.dylib" "CellNOptR.buildbin-libdir/CellNOptR/libs//CellNOptR.so"
install_name_tool -change "/usr/local/lib/libreadline.dylib" "/Library/Frameworks/R.framework/Versions/3.0/Resources/lib/libreadline.dylib" "CellNOptR.buildbin-libdir/CellNOptR/libs//CellNOptR.so"