CSSP 1.1.2 Chandler Zuo
 | Snapshot Date: 2014-04-04 16:20:29 -0700 (Fri, 04 Apr 2014) |  | URL: https://hedgehog.fhcrc.org/bioconductor/branches/RELEASE_2_13/madman/Rpacks/CSSP |  | Last Changed Rev: 87237 / Revision: 88450 |  | Last Changed Date: 2014-03-08 12:31:09 -0800 (Sat, 08 Mar 2014) |  
  | zin1  | Linux (Ubuntu 12.04.4 LTS) / x86_64  |  OK  |  OK  |  | 
| moscato1  | Windows Server 2008 R2 Enterprise SP1 (64-bit) / x64  |  OK  |  OK  | [ OK ] | 
| perceval  | Mac OS X Snow Leopard (10.6.8) / x86_64  |  OK  |  OK  |  OK  | 
  adding: data/ (256 bytes security) (stored 0%)
  adding: data/bin.data.RData (188 bytes security) (deflated 1%)
  adding: data/bindata.chr1.RData (188 bytes security) (stored 0%)
  adding: data/bindpos.RData (188 bytes security) (stored 0%)
  adding: data/peakpos.RData (188 bytes security) (stored 0%)
  adding: data/sampleFit.RData (188 bytes security) (deflated 11%)
  adding: data/tagdat_chip.RData (188 bytes security) (deflated 1%)
  adding: data/tagdat_input.RData (188 bytes security) (deflated 1%)
  adding: DESCRIPTION (188 bytes security) (deflated 32%)
  adding: doc/ (256 bytes security) (stored 0%)
  adding: doc/cssp.pdf (188 bytes security) (deflated 12%)
  adding: doc/cssp.R (188 bytes security) (deflated 81%)
  adding: doc/cssp.rnw (188 bytes security) (deflated 70%)
  adding: doc/index.html (188 bytes security) (deflated 55%)
  adding: help/ (256 bytes security) (stored 0%)
  adding: help/aliases.rds (188 bytes security) (stored 0%)
  adding: help/AnIndex (188 bytes security) (deflated 71%)
  adding: help/CSSP.rdb (188 bytes security) (deflated 2%)
  adding: help/CSSP.rdx (188 bytes security) (stored 0%)
  adding: help/paths.rds (188 bytes security) (stored 0%)
  adding: html/ (256 bytes security) (stored 0%)
  adding: html/00Index.html (188 bytes security) (deflated 76%)
  adding: html/R.css (188 bytes security) (deflated 70%)
  adding: INDEX (188 bytes security) (deflated 74%)
  adding: libs/ (256 bytes security) (stored 0%)
  adding: libs/i386/ (256 bytes security) (stored 0%)
  adding: libs/i386/CSSP.dll (188 bytes security) (deflated 55%)
  adding: libs/x64/ (256 bytes security) (stored 0%)
  adding: libs/x64/CSSP.dll (188 bytes security) (deflated 55%)
  adding: MD5 (188 bytes security) (deflated 43%)
  adding: Meta/ (256 bytes security) (stored 0%)
  adding: Meta/data.rds (188 bytes security) (stored 0%)
  adding: Meta/hsearch.rds (188 bytes security) (stored 0%)
  adding: Meta/links.rds (188 bytes security) (stored 0%)
  adding: Meta/nsInfo.rds (188 bytes security) (stored 0%)
  adding: Meta/package.rds (188 bytes security) (stored 0%)
  adding: Meta/Rd.rds (188 bytes security) (stored 0%)
  adding: Meta/vignette.rds (188 bytes security) (stored 0%)
  adding: NAMESPACE (188 bytes security) (deflated 56%)
  adding: R/ (256 bytes security) (stored 0%)
  adding: R/CSSP (188 bytes security) (deflated 41%)
  adding: R/CSSP.rdb (188 bytes security) (deflated 31%)
  adding: R/CSSP.rdx (188 bytes security) (stored 0%)
  adding: tests/ (256 bytes security) (stored 0%)
  adding: tests/createBinData-Ex.R (188 bytes security) (deflated 79%)
  adding: tests/test-cssp.fit.R (188 bytes security) (deflated 75%)
  adding: tests/test-readdata.R (188 bytes security) (deflated 92%)