CAMERA 1.18.0 Carsten Kuhl
 | Snapshot Date: 2014-04-04 16:20:29 -0700 (Fri, 04 Apr 2014) |  | URL: https://hedgehog.fhcrc.org/bioconductor/branches/RELEASE_2_13/madman/Rpacks/CAMERA |  | Last Changed Rev: 81642 / Revision: 88450 |  | Last Changed Date: 2013-10-14 14:29:21 -0700 (Mon, 14 Oct 2013) |  
  | zin1  | Linux (Ubuntu 12.04.4 LTS) / x86_64  |  OK  |  OK  |  | 
| moscato1  | Windows Server 2008 R2 Enterprise SP1 (64-bit) / x64  |  OK  |  OK  |  OK  | 
| perceval  | Mac OS X Snow Leopard (10.6.8) / x86_64  |  OK  |  OK  | [ OK ] | 
>>>>>>> 
>>>>>>> INSTALLATION WITH 'R CMD INSTALL --preclean --no-multiarch --library=CAMERA.buildbin-libdir CAMERA_1.18.0.tar.gz'
>>>>>>> 
* installing *source* package ‘CAMERA’ ...
** libs
llvm-gcc-4.2 -arch x86_64 -std=gnu99 -I/Library/Frameworks/R.framework/Resources/include -DNDEBUG  -I/usr/local/include    -fPIC  -mtune=core2 -g -O2 -Wall  -c fastMatch.c -o fastMatch.o
llvm-gcc-4.2 -arch x86_64 -std=gnu99 -dynamiclib -Wl,-headerpad_max_install_names -undefined dynamic_lookup -single_module -multiply_defined suppress -L/usr/local/lib -L/usr/local/lib -o CAMERA.so fastMatch.o -F/Library/Frameworks/R.framework/.. -framework R -Wl,-framework -Wl,CoreFoundation
installing to /Users/biocbuild/bbs-2.13-bioc/meat/CAMERA.buildbin-libdir/CAMERA/libs
** R
** data
** inst
** byte-compile and prepare package for lazy loading
Warning in fun(libname, pkgname) :
  mzR has been built against a different Rcpp version (0.11.0)
than is installed on your system (0.11.1). This might lead to errors
when loading mzR. If you encounter such issues, please send
a report, including the output of sessionInfo() to the Bioc
mailing list -- http://www.bioconductor.org/help/mailing-list.
** help
*** installing help indices
** building package indices
** installing vignettes
** testing if installed package can be loaded
Warning in fun(libname, pkgname) :
  mzR has been built against a different Rcpp version (0.11.0)
than is installed on your system (0.11.1). This might lead to errors
when loading mzR. If you encounter such issues, please send
a report, including the output of sessionInfo() to the Bioc
mailing list -- http://www.bioconductor.org/help/mailing-list.
* DONE (CAMERA)
>>>>>>> 
>>>>>>> FIXING LINKS FOR CAMERA.buildbin-libdir/CAMERA/libs//CAMERA.so
>>>>>>> 
install_name_tool -change "/usr/local/lib/libgcc_s.1.dylib" "/Library/Frameworks/R.framework/Versions/3.0/Resources/lib/libgcc_s.1.dylib" "CAMERA.buildbin-libdir/CAMERA/libs//CAMERA.so"
install_name_tool -change "/usr/local/lib/libgfortran.2.dylib" "/Library/Frameworks/R.framework/Versions/3.0/Resources/lib/libgfortran.2.dylib" "CAMERA.buildbin-libdir/CAMERA/libs//CAMERA.so"
install_name_tool -change "/usr/local/lib/libreadline.5.2.dylib" "/Library/Frameworks/R.framework/Versions/3.0/Resources/lib/libreadline.5.2.dylib" "CAMERA.buildbin-libdir/CAMERA/libs//CAMERA.so"
install_name_tool -change "/usr/local/lib/libreadline.dylib" "/Library/Frameworks/R.framework/Versions/3.0/Resources/lib/libreadline.dylib" "CAMERA.buildbin-libdir/CAMERA/libs//CAMERA.so"