| Back to the "Multiple platform build/check report" | A [B] C D E F G H I J K L M N O P Q R S T U V W X Y Z | 
This page was generated on 2014-04-05 09:52:38 -0700 (Sat, 05 Apr 2014).
| Package 81/750 | Hostname | OS / Arch | BUILD | CHECK | BUILD BIN | ||||
| BiocInstaller 1.12.0 Bioconductor Package Maintainer 
  | zin1 | Linux (Ubuntu 12.04.4 LTS) / x86_64 | OK | OK | |||||
| moscato1 | Windows Server 2008 R2 Enterprise SP1 (64-bit) / x64 | OK | OK | OK | |||||
| perceval | Mac OS X Snow Leopard (10.6.8) / x86_64 | [ OK ] | OK | OK | 
| Package: BiocInstaller | 
| Version: 1.12.0 | 
| Command: /Library/Frameworks/R.framework/Versions/Current/Resources/bin/R CMD build --keep-empty-dirs --no-resave-data BiocInstaller | 
| StartedAt: 2014-04-04 21:25:13 -0700 (Fri, 04 Apr 2014) | 
| EndedAt: 2014-04-04 21:25:15 -0700 (Fri, 04 Apr 2014) | 
| EllapsedTime: 1.9 seconds | 
| RetCode: 0 | 
| Status: OK | 
| PackageFile: BiocInstaller_1.12.0.tar.gz | 
| PackageFileSize: 13.2 KiB | 
* checking for file ‘BiocInstaller/DESCRIPTION’ ... OK * preparing ‘BiocInstaller’: * checking DESCRIPTION meta-information ... OK * checking for LF line-endings in source and make files * checking for empty or unneeded directories * building ‘BiocInstaller_1.12.0.tar.gz’