inSilicoDb 1.7.1 Jonatan Taminau , David Steenhoff
 | Snapshot Date: 2013-01-15 17:01:14 -0800 (Tue, 15 Jan 2013) |  | URL: https://hedgehog.fhcrc.org/bioconductor/trunk/madman/Rpacks/inSilicoDb |  | Last Changed Rev: 70320 / Revision: 72575 |  | Last Changed Date: 2012-10-08 17:19:47 -0700 (Mon, 08 Oct 2012) |  
  | george2  | Linux (Ubuntu 12.04.1 LTS) / x86_64  |  OK  |  OK  |  | 
| lamb2  | Linux (openSUSE 11.4) / x86_64  | [ OK ] |  OK  |  | 
| moscato2  | Windows Server 2008 R2 Enterprise SP1 (64-bit) / x64  |  OK  |  OK  |  OK  | 
| petty  | Mac OS X Leopard (10.5.8) / i386  |  OK  |  OK  |  OK  | 
* checking for file ‘inSilicoDb/DESCRIPTION’ ... OK
* preparing ‘inSilicoDb’:
* checking DESCRIPTION meta-information ... OK
* installing the package to re-build vignettes
* creating vignettes ... OK
* checking for LF line-endings in source and make files
* checking for empty or unneeded directories
* building ‘inSilicoDb_1.7.1.tar.gz’