| Back to the "Multiple platform build/check report" | A [B] C D E F G H I J K L M N O P Q R S T U V W X Y Z |
| Package 71/671 | Hostname | OS / Arch | BUILD | CHECK | BUILD BIN | ||||
| BiocGenerics 0.6.0 Bioconductor Package Maintainer
| george2 | Linux (Ubuntu 12.04.1 LTS) / x86_64 | OK | WARNINGS | |||||
| moscato2 | Windows Server 2008 R2 Enterprise SP1 (64-bit) / x64 | OK | WARNINGS | OK | |||||
| petty | Mac OS X Snow Leopard (10.6.8) / x86_64 | OK | WARNINGS | OK | |||||
| pelham | Mac OS X Snow Leopard (10.6.8) / x86_64 | [ OK ] | WARNINGS | OK |
| Package: BiocGenerics |
| Version: 0.6.0 |
| Command: /Library/Frameworks/R.framework/Versions/Current/Resources/bin/R CMD build --keep-empty-dirs --no-resave-data BiocGenerics |
| StartedAt: 2013-05-01 00:02:55 -0700 (Wed, 01 May 2013) |
| EndedAt: 2013-05-01 00:02:57 -0700 (Wed, 01 May 2013) |
| EllapsedTime: 1.8 seconds |
| RetCode: 0 |
| Status: OK |
| PackageFile: BiocGenerics_0.6.0.tar.gz |
| PackageFileSize: 25.86 KiB |
* checking for file 'BiocGenerics/DESCRIPTION' ... OK * preparing 'BiocGenerics': * checking DESCRIPTION meta-information ... OK * checking for LF line-endings in source and make files * checking for empty or unneeded directories * building 'BiocGenerics_0.6.0.tar.gz'