waveTiling 1.1.1 Kristof De Beuf
 | Snapshot Date: 2013-03-24 17:01:43 -0700 (Sun, 24 Mar 2013) |  | URL: https://hedgehog.fhcrc.org/bioconductor/trunk/madman/Rpacks/waveTiling |  | Last Changed Rev: 72298 / Revision: 74774 |  | Last Changed Date: 2013-01-04 13:18:09 -0800 (Fri, 04 Jan 2013) |  
  | george2  | Linux (Ubuntu 12.04.1 LTS) / x86_64  |  OK  | [ OK ] |  | 
| moscato2  | Windows Server 2008 R2 Enterprise SP1 (64-bit) / x64  |  OK  |  OK  |  OK  | 
| petty  | Mac OS X Leopard (10.5.8) / i386  |  OK  |  OK  |  OK  | 
* using log directory ‘/home/biocbuild/bbs-2.12-bioc/meat/waveTiling.Rcheck’
* using R version 3.0.0 beta (2013-03-19 r62328)
* using platform: x86_64-unknown-linux-gnu (64-bit)
* using session charset: UTF-8
* using option ‘--no-vignettes’
* checking for file ‘waveTiling/DESCRIPTION’ ... OK
* this is package ‘waveTiling’ version ‘1.1.1’
* checking package namespace information ... OK
* checking package dependencies ... OK
* checking if this is a source package ... OK
* checking if there is a namespace ... OK
* checking for hidden files and directories ... OK
* checking for portable file names ... OK
* checking for sufficient/correct file permissions ... OK
* checking whether package ‘waveTiling’ can be installed ... [35s/35s] OK
* checking installed package size ... OK
* checking package directory ... OK
* checking DESCRIPTION meta-information ... OK
* checking top-level files ... OK
* checking for left-over files ... OK
* checking index information ... OK
* checking package subdirectories ... OK
* checking R files for non-ASCII characters ... OK
* checking R files for syntax errors ... OK
* checking whether the package can be loaded ... OK
* checking whether the package can be loaded with stated dependencies ... OK
* checking whether the package can be unloaded cleanly ... OK
* checking whether the namespace can be loaded with stated dependencies ... OK
* checking whether the namespace can be unloaded cleanly ... OK
* checking for unstated dependencies in R code ... OK
* checking S3 generic/method consistency ... OK
* checking replacement functions ... OK
* checking foreign function calls ... NOTE
Foreign function calls with ‘PACKAGE’ argument in a different package:
  .C("dwt", ..., PACKAGE = "waveslim")
  .C("idwt", ..., PACKAGE = "waveslim")
See the chapter ‘System and foreign language interfaces’ of the
‘Writing R Extensions’ manual.
* checking R code for possible problems ... NOTE
plotWfm,WfmFit-WfmInf: warning in
  makeNewTranscriptRectangleOverlay(sigRegions =
  as.matrix(data.frame(start(regions[[1]]), end(regions[[1]]))),
  location = Gloc, start = sta, end = end, region = c(trackCount,
  trackCount), dp = DisplayPars(color = "darkgrey", alpha = 0.1)):
  partial argument match of 'location' to 'locations'
plotWfm,WfmFit-WfmInf: warning in
  makeNewTranscriptRectangleOverlay(sigRegions =
  as.matrix(data.frame(start(regions[[2]]), end(regions[[2]]))),
  location = Gloc, start = sta, end = end, region = c(trackCount,
  trackCount), dp = DisplayPars(color = "darkgrey", alpha = 0.1)):
  partial argument match of 'location' to 'locations'
plotWfm,WfmFit-WfmInf: warning in gdPlot(trackInfo, minBase = minBase,
  maxBase = maxBase, overlay = overlayInfoCorr[hlpIndex]): partial
  argument match of 'overlay' to 'overlays'
plotWfm,WfmFit-WfmInf: warning in
  makeNewTranscriptRectangleOverlay(sigRegions =
  as.matrix(data.frame(start(regions[[effectId[effectNo] + 1]]),
  end(regions[[effectId[effectNo] + 1]]))), location = Gloc, start =
  sta, end = end, region = c(trackCount, trackCount), dp =
  DisplayPars(color = "darkgrey", alpha = 0.1)): partial argument match
  of 'location' to 'locations'
plotWfm,WfmFit-WfmInf: warning in
  makeNewTranscriptRectangleOverlay(sigRegions =
  as.matrix(data.frame(start(regions[[effectId[length(effectsToPlot) -
  2] + 2]]), end(regions[[effectId[length(effectsToPlot) - 2] + 2]]))),
  location = Gloc, start = sta, end = end, region = c(trackCount,
  trackCount), dp = DisplayPars(color = "darkgrey", alpha = 0.1)):
  partial argument match of 'location' to 'locations'
plotWfm,WfmFit-WfmInf: warning in
  makeNewTranscriptRectangleOverlay(sigRegions =
  as.matrix(data.frame(start(regions[[i + 1]]), end(regions[[i +
  1]]))), location = Gloc, start = sta, end = end, region =
  c(trackCount, trackCount), dp = DisplayPars(color = "darkgrey", alpha
  = 0.1)): partial argument match of 'location' to 'locations'
plotWfm,WfmFit-WfmInf: warning in
  makeNewTranscriptRectangleOverlay(sigRegions =
  as.matrix(data.frame(start(regions[[i]]), end(regions[[i]]))),
  location = Gloc, start = sta, end = end, region = c(trackCount,
  trackCount), dp = DisplayPars(color = "darkgrey", alpha = 0.1)):
  partial argument match of 'location' to 'locations'
* checking Rd files ... OK
* checking Rd metadata ... OK
* checking Rd cross-references ... OK
* checking for missing documentation entries ... OK
* checking for code/documentation mismatches ... OK
* checking Rd \usage sections ... OK
* checking Rd contents ... OK
* checking for unstated dependencies in examples ... OK
* checking line endings in C/C++/Fortran sources/headers ... OK
* checking line endings in Makefiles ... OK
* checking for portable use of $(BLAS_LIBS) and $(LAPACK_LIBS) ... OK
* checking compiled code ... OK
* checking installed files from ‘inst/doc’ ... OK
* checking examples ... [240s/254s] OK
Examples with CPU or elapsed time > 5s
                                user system elapsed
WaveTilingFeatureSet-class    94.094  2.900 106.032
wfm.fit                       65.884  2.092  69.296
selectProbesFromFilterOverlap 12.805  0.940  13.888
MapFilterProbe-class          12.805  0.408  14.332
getNonAnnotatedRegions         8.453  0.540   9.322
getSigGenes                    8.772  0.100   9.641
plotWfm                        5.749  0.436   6.192
* checking for unstated dependencies in vignettes ... OK
* checking package vignettes in ‘inst/doc’ ... OK
* checking running R code from vignettes ... SKIPPED
* checking re-building of vignettes ... SKIPPED
* checking PDF version of manual ... OK
NOTE: There were 2 notes.
See
  ‘/home/biocbuild/bbs-2.12-bioc/meat/waveTiling.Rcheck/00check.log’
for details.