virtualArray 1.3.1 Andreas Heider
 | Snapshot Date: 2013-03-24 17:01:43 -0700 (Sun, 24 Mar 2013) |  | URL: https://hedgehog.fhcrc.org/bioconductor/trunk/madman/Rpacks/virtualArray |  | Last Changed Rev: 72530 / Revision: 74774 |  | Last Changed Date: 2013-01-15 00:19:09 -0800 (Tue, 15 Jan 2013) |  
  | george2  | Linux (Ubuntu 12.04.1 LTS) / x86_64  |  OK  |  OK  |  | 
| moscato2  | Windows Server 2008 R2 Enterprise SP1 (64-bit) / x64  |  OK  |  OK  | [ OK ] | 
| petty  | Mac OS X Leopard (10.5.8) / i386  |  OK  |  OK  |  OK  | 
install for i386
* installing *source* package 'virtualArray' ...
** R
** data
*** moving datasets to lazyload DB
** inst
** preparing package for lazy loading
Creating a generic function for 'boxplot' from package 'graphics' in package 'affyPLM'
Creating a generic function for 'hist' from package 'graphics' in package 'affyPLM'
Warning: replacing previous import 'new' when loading 'methods'
Creating a generic function from function 'virtualArrayComBat' in package 'virtualArray'
** help
*** installing help indices
** building package indices
** installing vignettes
   'virtualArray.Rnw' 
** testing if installed package can be loaded
Creating a generic function for 'boxplot' from package 'graphics' in package 'affyPLM'
Creating a generic function for 'hist' from package 'graphics' in package 'affyPLM'
Warning: replacing previous import 'new' when loading 'methods'
install for x64
* installing *source* package 'virtualArray' ...
** testing if installed package can be loaded
Creating a generic function for 'boxplot' from package 'graphics' in package 'affyPLM'
Creating a generic function for 'hist' from package 'graphics' in package 'affyPLM'
Warning: replacing previous import 'new' when loading 'methods'
* MD5 sums
packaged installation of 'virtualArray' as virtualArray_1.3.1.zip
* DONE (virtualArray)