rnaSeqMap 2.13.1 Michal Okoniewski
 | Snapshot Date: 2013-03-24 17:01:43 -0700 (Sun, 24 Mar 2013) |  | URL: https://hedgehog.fhcrc.org/bioconductor/trunk/madman/Rpacks/rnaSeqMap |  | Last Changed Rev: 72257 / Revision: 74774 |  | Last Changed Date: 2013-01-02 23:10:19 -0800 (Wed, 02 Jan 2013) |  
  | george2  | Linux (Ubuntu 12.04.1 LTS) / x86_64  |  OK  |  OK  |  | 
| moscato2  | Windows Server 2008 R2 Enterprise SP1 (64-bit) / x64  | N O T   S U P P O R T E D | 
| petty  | Mac OS X Leopard (10.5.8) / i386  | [ OK ] |  OK  |  OK  | 
* checking for file 'rnaSeqMap/DESCRIPTION' ... OK
* preparing 'rnaSeqMap':
* checking DESCRIPTION meta-information ... OK
* cleaning src
* installing the package to re-build vignettes
* creating vignettes ... OK
* cleaning src
* checking for LF line-endings in source and make files
* checking for empty or unneeded directories
WARNING: directory 'rnaSeqMap/inst/extdata' is empty
* looking to see if a 'data/datalist' file should be added
* building 'rnaSeqMap_2.13.1.tar.gz'