ncdfFlow 1.5.26 M. Jiang
 | Snapshot Date: 2013-03-10 17:01:18 -0700 (Sun, 10 Mar 2013) |  | URL: https://hedgehog.fhcrc.org/bioconductor/trunk/madman/Rpacks/ncdfFlow |  | Last Changed Rev: 73221 / Revision: 74144 |  | Last Changed Date: 2013-02-06 15:57:13 -0800 (Wed, 06 Feb 2013) |  
  | george2  | Linux (Ubuntu 12.04.1 LTS) / x86_64  |  OK  |  OK  |  | 
| moscato2  | Windows Server 2008 R2 Enterprise SP1 (64-bit) / x64  |  OK  |  ERROR  | [ OK ] | 
| petty  | Mac OS X Leopard (10.5.8) / i386  |  OK  |  OK  |  OK  | 
install for i386
* installing *source* package 'ncdfFlow' ...
   **********************************************
   WARNING: this package has a configure script
         It probably needs manual configuration
   **********************************************
** libs
gcc -m32 -I"E:/biocbld/BBS-2˜1.12-/R/include" -DNDEBUG -I/src/include -Ic:/netcdf/i386/include -Ic:/hdf5/i386/include    -I"d:/RCompile/CRANpkg/extralibs64/local/include"     -O3 -Wall  -std=gnu99 -mtune=core2 -c bitOps.c -o bitOps.o
gcc -m32 -I"E:/biocbld/BBS-2˜1.12-/R/include" -DNDEBUG -I/src/include -Ic:/netcdf/i386/include -Ic:/hdf5/i386/include    -I"d:/RCompile/CRANpkg/extralibs64/local/include"     -O3 -Wall  -std=gnu99 -mtune=core2 -c init.c -o init.o
gcc -m32 -I"E:/biocbld/BBS-2˜1.12-/R/include" -DNDEBUG -I/src/include -Ic:/netcdf/i386/include -Ic:/hdf5/i386/include    -I"d:/RCompile/CRANpkg/extralibs64/local/include"     -O3 -Wall  -std=gnu99 -mtune=core2 -c netCDF.c -o netCDF.o
netCDF.c: In function 'readSlice':
netCDF.c:168:61: warning: unused variable 'failcount' [-Wunused-variable]
netCDF.c:166:11: warning: unused variable 'estack' [-Wunused-variable]
gcc -m32 -shared -s -static-libgcc -o ncdfFlow.dll tmp.def bitOps.o init.o netCDF.o -Lc:/netcdf/i386/lib -Lc:/hdf5/i386/lib -lnetcdf -Ld:/RCompile/CRANpkg/extralibs64/local/lib/i386 -Ld:/RCompile/CRANpkg/extralibs64/local/lib -LE:/biocbld/BBS-2˜1.12-/R/bin/i386 -lR
installing to E:/biocbld/bbs-2.12-bioc/meat/ncdfFlow.buildbin-libdir/ncdfFlow/libs/i386
** R
** inst
** preparing package for lazy loading
** help
*** installing help indices
** building package indices
** installing vignettes
   'ncdfFlow.Rnw' 
** testing if installed package can be loaded
install for x64
* installing *source* package 'ncdfFlow' ...
   **********************************************
   WARNING: this package has a configure script
         It probably needs manual configuration
   **********************************************
** libs
gcc -m64 -I"E:/biocbld/BBS-2˜1.12-/R/include" -DNDEBUG -I/src/include -Ic:/netcdf/x64/include -Ic:/hdf5/x64/include    -I"d:/RCompile/CRANpkg/extralibs64/local/include"     -O2 -Wall  -std=gnu99 -mtune=core2 -c bitOps.c -o bitOps.o
gcc -m64 -I"E:/biocbld/BBS-2˜1.12-/R/include" -DNDEBUG -I/src/include -Ic:/netcdf/x64/include -Ic:/hdf5/x64/include    -I"d:/RCompile/CRANpkg/extralibs64/local/include"     -O2 -Wall  -std=gnu99 -mtune=core2 -c init.c -o init.o
gcc -m64 -I"E:/biocbld/BBS-2˜1.12-/R/include" -DNDEBUG -I/src/include -Ic:/netcdf/x64/include -Ic:/hdf5/x64/include    -I"d:/RCompile/CRANpkg/extralibs64/local/include"     -O2 -Wall  -std=gnu99 -mtune=core2 -c netCDF.c -o netCDF.o
netCDF.c: In function 'readSlice':
netCDF.c:168:61: warning: unused variable 'failcount' [-Wunused-variable]
netCDF.c:166:11: warning: unused variable 'estack' [-Wunused-variable]
gcc -m64 -shared -s -static-libgcc -o ncdfFlow.dll tmp.def bitOps.o init.o netCDF.o -Lc:/netcdf/x64/lib -Lc:/hdf5/x64/lib -lnetcdf -Ld:/RCompile/CRANpkg/extralibs64/local/lib/x64 -Ld:/RCompile/CRANpkg/extralibs64/local/lib -LE:/biocbld/BBS-2˜1.12-/R/bin/x64 -lR
installing to E:/biocbld/bbs-2.12-bioc/meat/ncdfFlow.buildbin-libdir/ncdfFlow/libs/x64
** testing if installed package can be loaded
* MD5 sums
packaged installation of 'ncdfFlow' as ncdfFlow_1.5.26.zip
* DONE (ncdfFlow)