minfi 1.5.6 Kasper Daniel Hansen
 | Snapshot Date: 2013-03-24 17:01:43 -0700 (Sun, 24 Mar 2013) |  | URL: https://hedgehog.fhcrc.org/bioconductor/trunk/madman/Rpacks/minfi |  | Last Changed Rev: 74477 / Revision: 74774 |  | Last Changed Date: 2013-03-16 21:17:51 -0700 (Sat, 16 Mar 2013) |  
  | george2  | Linux (Ubuntu 12.04.1 LTS) / x86_64  |  OK  |  OK  |  | 
| moscato2  | Windows Server 2008 R2 Enterprise SP1 (64-bit) / x64  |  OK  |  OK  |  OK  | 
| petty  | Mac OS X Leopard (10.5.8) / i386  |  OK  |  OK  | [ OK ] | 
>>>>>>> 
>>>>>>> INSTALLATION WITH 'R CMD INSTALL --preclean --no-multiarch --library=minfi.buildbin-libdir minfi_1.5.6.tar.gz'
>>>>>>> 
* installing *source* package 'minfi' ...
** R
** inst
** preparing package for lazy loading
** help
*** installing help indices
** building package indices
** installing vignettes
   'minfi.Rnw' 
** testing if installed package can be loaded
* DONE (minfi)