inSilicoDb 1.7.4 Jonatan Taminau , David Steenhoff
 | Snapshot Date: 2013-03-24 17:01:43 -0700 (Sun, 24 Mar 2013) |  | URL: https://hedgehog.fhcrc.org/bioconductor/trunk/madman/Rpacks/inSilicoDb |  | Last Changed Rev: 73420 / Revision: 74774 |  | Last Changed Date: 2013-02-12 10:17:17 -0800 (Tue, 12 Feb 2013) |  
  | george2  | Linux (Ubuntu 12.04.1 LTS) / x86_64  |  OK  |  OK  |  | 
| moscato2  | Windows Server 2008 R2 Enterprise SP1 (64-bit) / x64  |  OK  |  OK  | [ OK ] | 
| petty  | Mac OS X Leopard (10.5.8) / i386  |  OK  |  OK  |  OK  | 
install for i386
* installing *source* package 'inSilicoDb' ...
** R
** inst
** preparing package for lazy loading
** help
*** installing help indices
** building package indices
** installing vignettes
   'inSilicoDb.Rnw' 
** testing if installed package can be loaded
Warning: ignoring .First.lib() for package 'inSilicoDb'
install for x64
* installing *source* package 'inSilicoDb' ...
** testing if installed package can be loaded
Warning: ignoring .First.lib() for package 'inSilicoDb'
* MD5 sums
packaged installation of 'inSilicoDb' as inSilicoDb_1.7.4.zip
* DONE (inSilicoDb)