imageHTS 1.9.1 Gregoire Pau
 | Snapshot Date: 2013-03-24 17:01:43 -0700 (Sun, 24 Mar 2013) |  | URL: https://hedgehog.fhcrc.org/bioconductor/trunk/madman/Rpacks/imageHTS |  | Last Changed Rev: 74692 / Revision: 74774 |  | Last Changed Date: 2013-03-22 11:37:50 -0700 (Fri, 22 Mar 2013) |  
  | george2  | Linux (Ubuntu 12.04.1 LTS) / x86_64  |  OK  |  OK  |  | 
| moscato2  | Windows Server 2008 R2 Enterprise SP1 (64-bit) / x64  |  OK  |  OK  | [ OK ] | 
| petty  | Mac OS X Leopard (10.5.8) / i386  |  OK  |  OK  |  OK  | 
* installing *source* package 'imageHTS' ...
** R
** inst
** preparing package for lazy loading
** help
*** installing help indices
** building package indices
** installing vignettes
   'imageHTS-introduction.Rnw' 
** testing if installed package can be loaded
* MD5 sums
packaged installation of 'imageHTS' as imageHTS_1.9.1.zip
* DONE (imageHTS)